BEGIN:VCALENDAR
VERSION:2.0
PRODID:-//Copastur - ECPv6.15.20//NONSGML v1.0//EN
CALSCALE:GREGORIAN
METHOD:PUBLISH
X-WR-CALNAME:Copastur
X-ORIGINAL-URL:https://www.copastur.com.br
X-WR-CALDESC:Eventos para Copastur
REFRESH-INTERVAL;VALUE=DURATION:PT1H
X-Robots-Tag:noindex
X-PUBLISHED-TTL:PT1H
BEGIN:VTIMEZONE
TZID:America/Sao_Paulo
BEGIN:STANDARD
TZOFFSETFROM:-0300
TZOFFSETTO:-0300
TZNAME:-03
DTSTART:20240101T000000
END:STANDARD
END:VTIMEZONE
BEGIN:VEVENT
DTSTART;VALUE=DATE:20250821
DTEND;VALUE=DATE:20250901
DTSTAMP:20260422T065904
CREATED:20250110T194128Z
LAST-MODIFIED:20250115T202047Z
UID:75335-1755734400-1756684799@www.copastur.com.br
SUMMARY:Festa do Peão de Barretos
DESCRIPTION:Aberto ao público mediante ingresso
URL:https://www.copastur.com.br/evento/festa-do-peao-de-barretos/
LOCATION:Parque do Peão\, Barretos\, SP\, Brazil
CATEGORIES:Agropecuário,Comercial e Industrial
END:VEVENT
BEGIN:VEVENT
DTSTART;VALUE=DATE:20250822
DTEND;VALUE=DATE:20250901
DTSTAMP:20260422T065904
CREATED:20250110T194130Z
LAST-MODIFIED:20250123T120253Z
UID:75337-1755820800-1756684799@www.copastur.com.br
SUMMARY:Feira Brasil Mostra Brasil (Natal)
DESCRIPTION:Aberto ao público
URL:https://www.copastur.com.br/evento/feira-brasil-mostra-brasil-natal-bmb/
LOCATION:Centro de Convenções de Natal\, Natal\, RN\, Brazil
CATEGORIES:Feiras Multisetoriais
END:VEVENT
BEGIN:VEVENT
DTSTART;VALUE=DATE:20250828
DTEND;VALUE=DATE:20250831
DTSTAMP:20260422T065904
CREATED:20250110T200952Z
LAST-MODIFIED:20250123T134949Z
UID:75365-1756339200-1756598399@www.copastur.com.br
SUMMARY:IEF 2025 - ILPI´s Expo + Fórum
DESCRIPTION:Especializado mediante convite e ingresso
URL:https://www.copastur.com.br/evento/ief-2025-ilpis-expo-forum-ilpis-expo-forum/
LOCATION:Centro de Convenções Frei Caneca\, São Paulo\, SP\, Brazil
CATEGORIES:Saúde
END:VEVENT
BEGIN:VEVENT
DTSTART;VALUE=DATE:20250828
DTEND;VALUE=DATE:20250831
DTSTAMP:20260422T065904
CREATED:20250110T200953Z
LAST-MODIFIED:20250120T150136Z
UID:75366-1756339200-1756598399@www.copastur.com.br
SUMMARY:IHRSA Fitness Brasil
DESCRIPTION:Aberto ao público
URL:https://www.copastur.com.br/evento/ihrsa-fitness-brasil/
LOCATION:Transamérica Expo Center\, São Paulo\, SP\, Brazil
CATEGORIES:Lazer
END:VEVENT
BEGIN:VEVENT
DTSTART;VALUE=DATE:20250828
DTEND;VALUE=DATE:20250831
DTSTAMP:20260422T065904
CREATED:20250110T200955Z
LAST-MODIFIED:20250120T150201Z
UID:75368-1756339200-1756598399@www.copastur.com.br
SUMMARY:Hotmart Fire 2025 (Fire Festival 2025)
DESCRIPTION:Aberto ao público mediante ingresso
URL:https://www.copastur.com.br/evento/hotmart-fire-2025-fire-festival-2025/
LOCATION:Expominas – Belo Horizonte\, Belo Horizonte\, MG\, Brazil
CATEGORIES:Empreendedorismo
END:VEVENT
BEGIN:VEVENT
DTSTART;VALUE=DATE:20250829
DTEND;VALUE=DATE:20250901
DTSTAMP:20260422T065904
CREATED:20250110T201152Z
LAST-MODIFIED:20250120T150220Z
UID:75370-1756425600-1756684799@www.copastur.com.br
SUMMARY:Feira Casa SC - Feira de Móveis\, Decoração e Imóveis (Joinville)
DESCRIPTION:Aberto ao público
URL:https://www.copastur.com.br/evento/feira-casa-sc-feira-de-moveis-decoracao-e-imoveis-joinville/
LOCATION:Joinville\, Joinville\, SC\, Brasil
CATEGORIES:Madeira,Móveis e Decorações
END:VEVENT
BEGIN:VEVENT
DTSTART;VALUE=DATE:20250829
DTEND;VALUE=DATE:20250908
DTSTAMP:20260422T065904
CREATED:20250110T201151Z
LAST-MODIFIED:20250113T152013Z
UID:75369-1756425600-1757289599@www.copastur.com.br
SUMMARY:CAMARU - Exposição Agropecuária de Uberlândia
DESCRIPTION:Aberto ao público
URL:https://www.copastur.com.br/evento/camaru-exposicao-agropecuaria-de-uberlandia/
LOCATION:Parque de Exposições Camaru\, Uberlândia\, MG\, Brazil
CATEGORIES:Agropecuário,Comercial e Industrial
END:VEVENT
BEGIN:VEVENT
DTSTART;VALUE=DATE:20250830
DTEND;VALUE=DATE:20250908
DTSTAMP:20260422T065904
CREATED:20250110T201153Z
LAST-MODIFIED:20250113T152050Z
UID:75371-1756512000-1757289599@www.copastur.com.br
SUMMARY:EXPOINTER - Exposição Internacional de Animais\, Máquinas\, Implementos e Produtos Agropecuários
DESCRIPTION:Aberto ao público
URL:https://www.copastur.com.br/evento/expointer-exposicao-internacional-de-animais-maquinas-implementos-e-produtos-agropecuarios/
LOCATION:Parque Estadual de Exposições Assis Brasil\, Esteio\, RS\, Brazil
CATEGORIES:Agropecuário,Comercial e Industrial
END:VEVENT
END:VCALENDAR