BEGIN:VCALENDAR
VERSION:2.0
PRODID:-//Copastur - ECPv6.15.20//NONSGML v1.0//EN
CALSCALE:GREGORIAN
METHOD:PUBLISH
X-WR-CALNAME:Copastur
X-ORIGINAL-URL:https://www.copastur.com.br
X-WR-CALDESC:Eventos para Copastur
REFRESH-INTERVAL;VALUE=DURATION:PT1H
X-Robots-Tag:noindex
X-PUBLISHED-TTL:PT1H
BEGIN:VTIMEZONE
TZID:America/Sao_Paulo
BEGIN:STANDARD
TZOFFSETFROM:-0300
TZOFFSETTO:-0300
TZNAME:-03
DTSTART:20240101T000000
END:STANDARD
END:VTIMEZONE
BEGIN:VEVENT
DTSTART;VALUE=DATE:20250829
DTEND;VALUE=DATE:20250908
DTSTAMP:20260422T051706
CREATED:20250110T201151Z
LAST-MODIFIED:20250113T152013Z
UID:75369-1756425600-1757289599@www.copastur.com.br
SUMMARY:CAMARU - Exposição Agropecuária de Uberlândia
DESCRIPTION:Aberto ao público
URL:https://www.copastur.com.br/evento/camaru-exposicao-agropecuaria-de-uberlandia/
LOCATION:Parque de Exposições Camaru\, Uberlândia\, MG\, Brazil
CATEGORIES:Agropecuário,Comercial e Industrial
END:VEVENT
BEGIN:VEVENT
DTSTART;VALUE=DATE:20250830
DTEND;VALUE=DATE:20250908
DTSTAMP:20260422T051706
CREATED:20250110T201153Z
LAST-MODIFIED:20250113T152050Z
UID:75371-1756512000-1757289599@www.copastur.com.br
SUMMARY:EXPOINTER - Exposição Internacional de Animais\, Máquinas\, Implementos e Produtos Agropecuários
DESCRIPTION:Aberto ao público
URL:https://www.copastur.com.br/evento/expointer-exposicao-internacional-de-animais-maquinas-implementos-e-produtos-agropecuarios/
LOCATION:Parque Estadual de Exposições Assis Brasil\, Esteio\, RS\, Brazil
CATEGORIES:Agropecuário,Comercial e Industrial
END:VEVENT
BEGIN:VEVENT
DTSTART;VALUE=DATE:20250902
DTEND;VALUE=DATE:20250906
DTSTAMP:20260422T051706
CREATED:20250110T201551Z
LAST-MODIFIED:20250113T184452Z
UID:75379-1756771200-1757116799@www.copastur.com.br
SUMMARY:CONSTRUMAQ - Feira de Tecnologias para o Setor Construtivo
DESCRIPTION:Aberto ao público
URL:https://www.copastur.com.br/evento/construmaq-feira-de-tecnologias-para-o-setor-construtivo/
LOCATION:ExpoTrade Convention Center\, Pinhais\, PR\, Brazil
CATEGORIES:Construção Civil
END:VEVENT
BEGIN:VEVENT
DTSTART;VALUE=DATE:20250903
DTEND;VALUE=DATE:20250906
DTSTAMP:20260422T051706
CREATED:20250110T201552Z
LAST-MODIFIED:20250123T135428Z
UID:75380-1756857600-1757116799@www.copastur.com.br
SUMMARY:EBAC 2025 - Encontro Brasileiro de Advocacia Criminal
DESCRIPTION:Aberto ao público mediante convite e ingresso
URL:https://www.copastur.com.br/evento/ebac-2025-encontro-brasileiro-de-advocacia-criminal/
LOCATION:Centro de Convenções de João Pessoa – Centro de Convenções Poeta Ronaldo Cunha Lima\, João Pessoa\, PB\, Brasil
CATEGORIES:Gestão
END:VEVENT
BEGIN:VEVENT
DTSTART;VALUE=DATE:20250903
DTEND;VALUE=DATE:20250906
DTSTAMP:20260422T051706
CREATED:20250110T201554Z
LAST-MODIFIED:20250123T135510Z
UID:75382-1756857600-1757116799@www.copastur.com.br
SUMMARY:Geronto Fair 2025
DESCRIPTION:Aberto ao público
URL:https://www.copastur.com.br/evento/geronto-fair-2025/
LOCATION:Serra Park – Centro de Feiras e Eventos\, Gramado\, RS\, Brazil
CATEGORIES:Saúde
END:VEVENT
BEGIN:VEVENT
DTSTART;VALUE=DATE:20250903
DTEND;VALUE=DATE:20250906
DTSTAMP:20260422T051706
CREATED:20250110T201554Z
LAST-MODIFIED:20250123T135523Z
UID:75383-1756857600-1757116799@www.copastur.com.br
SUMMARY:Expo Móvel Goiás
DESCRIPTION:Especializado mediante convite
URL:https://www.copastur.com.br/evento/expo-movel-goias/
LOCATION:Centro de Eventos do Ceará\, Fortaleza\, CE\, Brazil
CATEGORIES:Madeira,Móveis e Decorações
END:VEVENT
BEGIN:VEVENT
DTSTART;VALUE=DATE:20250904
DTEND;VALUE=DATE:20250907
DTSTAMP:20260422T051706
CREATED:20250110T201753Z
LAST-MODIFIED:20250123T135555Z
UID:75385-1756944000-1757203199@www.copastur.com.br
SUMMARY:DERMATO - Congresso da Sociedade Brasileira de Dermatologia (SBD)
DESCRIPTION:Especializado mediante convite e ingresso
URL:https://www.copastur.com.br/evento/dermato-congresso-da-sociedade-brasileira-de-dermatologia-sbd/
LOCATION:Centro de Convenções de Natal\, Natal\, RN\, Brazil
CATEGORIES:Saúde
END:VEVENT
BEGIN:VEVENT
DTSTART;VALUE=DATE:20250904
DTEND;VALUE=DATE:20250908
DTSTAMP:20260422T051706
CREATED:20250110T201754Z
LAST-MODIFIED:20250123T145127Z
UID:75386-1756944000-1757289599@www.copastur.com.br
SUMMARY:EXPOBAN 2025 - Exposição Agropecuária de Bandeirantes
DESCRIPTION:Aberto ao público
URL:https://www.copastur.com.br/evento/expoban-2025-exposicao-agropecuaria-de-bandeirantes/
LOCATION:Parque de Exposições Iporá\, Iporá\, GO\, Brazil
CATEGORIES:Agropecuário,Comercial e Industrial
END:VEVENT
BEGIN:VEVENT
DTSTART;VALUE=DATE:20250905
DTEND;VALUE=DATE:20250907
DTSTAMP:20260422T051706
CREATED:20250110T201755Z
LAST-MODIFIED:20250123T145319Z
UID:75388-1757030400-1757203199@www.copastur.com.br
SUMMARY:Feira de Turismo Avirrp 2025
DESCRIPTION:Restrito a profissionais do setor
URL:https://www.copastur.com.br/evento/feira-de-turismo-avirrp-2025/
LOCATION:Centro de Eventos Taiwan\, Ribeirão Preto\, SP\, Brasil
CATEGORIES:Turismo e Hotelaria
END:VEVENT
BEGIN:VEVENT
DTSTART;VALUE=DATE:20250905
DTEND;VALUE=DATE:20250908
DTSTAMP:20260422T051706
CREATED:20250110T201755Z
LAST-MODIFIED:20250123T145221Z
UID:75387-1757030400-1757289599@www.copastur.com.br
SUMMARY:Festival Moto Brasil 2025 (SMB Experience - Salão Moto Brasil 2025)
DESCRIPTION:Aberto ao público
URL:https://www.copastur.com.br/evento/festival-moto-brasil-2025-smb-experience-salao-moto-brasil-2025-moto-brasil-experience/
LOCATION:Riocentro\, Rio de Janeiro\, RJ\, Brazil
CATEGORIES:Setores Automotivo e Nautico
END:VEVENT
BEGIN:VEVENT
DTSTART;VALUE=DATE:20250905
DTEND;VALUE=DATE:20251006
DTSTAMP:20260422T051706
CREATED:20250109T125411Z
LAST-MODIFIED:20250109T185610Z
UID:74773-1757030400-1759708799@www.copastur.com.br
SUMMARY:ExpoSíndico (ExpoSíndiconline Brasil da CONASI) (Expo Síndico Online)
DESCRIPTION:Aberto ao público
URL:https://www.copastur.com.br/evento/exposindico-exposindiconline-brasil-da-conasi-expo-sindico-online/
LOCATION:Online\, São Paulo\, SP\, Brasil
CATEGORIES:Móveis e Decorações
END:VEVENT
END:VCALENDAR