BEGIN:VCALENDAR
VERSION:2.0
PRODID:-//Copastur - ECPv6.15.20//NONSGML v1.0//EN
CALSCALE:GREGORIAN
METHOD:PUBLISH
X-WR-CALNAME:Copastur
X-ORIGINAL-URL:https://www.copastur.com.br
X-WR-CALDESC:Eventos para Copastur
REFRESH-INTERVAL;VALUE=DURATION:PT1H
X-Robots-Tag:noindex
X-PUBLISHED-TTL:PT1H
BEGIN:VTIMEZONE
TZID:America/Sao_Paulo
BEGIN:STANDARD
TZOFFSETFROM:-0300
TZOFFSETTO:-0300
TZNAME:-03
DTSTART:20240101T000000
END:STANDARD
END:VTIMEZONE
BEGIN:VEVENT
DTSTART;VALUE=DATE:20250829
DTEND;VALUE=DATE:20250908
DTSTAMP:20260422T081408
CREATED:20250110T201151Z
LAST-MODIFIED:20250113T152013Z
UID:75369-1756425600-1757289599@www.copastur.com.br
SUMMARY:CAMARU - Exposição Agropecuária de Uberlândia
DESCRIPTION:Aberto ao público
URL:https://www.copastur.com.br/evento/camaru-exposicao-agropecuaria-de-uberlandia/
LOCATION:Parque de Exposições Camaru\, Uberlândia\, MG\, Brazil
CATEGORIES:Agropecuário,Comercial e Industrial
END:VEVENT
BEGIN:VEVENT
DTSTART;VALUE=DATE:20250830
DTEND;VALUE=DATE:20250908
DTSTAMP:20260422T081408
CREATED:20250110T201153Z
LAST-MODIFIED:20250113T152050Z
UID:75371-1756512000-1757289599@www.copastur.com.br
SUMMARY:EXPOINTER - Exposição Internacional de Animais\, Máquinas\, Implementos e Produtos Agropecuários
DESCRIPTION:Aberto ao público
URL:https://www.copastur.com.br/evento/expointer-exposicao-internacional-de-animais-maquinas-implementos-e-produtos-agropecuarios/
LOCATION:Parque Estadual de Exposições Assis Brasil\, Esteio\, RS\, Brazil
CATEGORIES:Agropecuário,Comercial e Industrial
END:VEVENT
BEGIN:VEVENT
DTSTART;VALUE=DATE:20250904
DTEND;VALUE=DATE:20250908
DTSTAMP:20260422T081408
CREATED:20250110T201754Z
LAST-MODIFIED:20250123T145127Z
UID:75386-1756944000-1757289599@www.copastur.com.br
SUMMARY:EXPOBAN 2025 - Exposição Agropecuária de Bandeirantes
DESCRIPTION:Aberto ao público
URL:https://www.copastur.com.br/evento/expoban-2025-exposicao-agropecuaria-de-bandeirantes/
LOCATION:Parque de Exposições Iporá\, Iporá\, GO\, Brazil
CATEGORIES:Agropecuário,Comercial e Industrial
END:VEVENT
BEGIN:VEVENT
DTSTART;VALUE=DATE:20250905
DTEND;VALUE=DATE:20250908
DTSTAMP:20260422T081408
CREATED:20250110T201755Z
LAST-MODIFIED:20250123T145221Z
UID:75387-1757030400-1757289599@www.copastur.com.br
SUMMARY:Festival Moto Brasil 2025 (SMB Experience - Salão Moto Brasil 2025)
DESCRIPTION:Aberto ao público
URL:https://www.copastur.com.br/evento/festival-moto-brasil-2025-smb-experience-salao-moto-brasil-2025-moto-brasil-experience/
LOCATION:Riocentro\, Rio de Janeiro\, RJ\, Brazil
CATEGORIES:Setores Automotivo e Nautico
END:VEVENT
BEGIN:VEVENT
DTSTART;VALUE=DATE:20250905
DTEND;VALUE=DATE:20251006
DTSTAMP:20260422T081408
CREATED:20250109T125411Z
LAST-MODIFIED:20250109T185610Z
UID:74773-1757030400-1759708799@www.copastur.com.br
SUMMARY:ExpoSíndico (ExpoSíndiconline Brasil da CONASI) (Expo Síndico Online)
DESCRIPTION:Aberto ao público
URL:https://www.copastur.com.br/evento/exposindico-exposindiconline-brasil-da-conasi-expo-sindico-online/
LOCATION:Online\, São Paulo\, SP\, Brasil
CATEGORIES:Móveis e Decorações
END:VEVENT
BEGIN:VEVENT
DTSTART;VALUE=DATE:20250906
DTEND;VALUE=DATE:20250910
DTSTAMP:20260422T081408
CREATED:20250110T201953Z
LAST-MODIFIED:20250123T145336Z
UID:75389-1757116800-1757462399@www.copastur.com.br
SUMMARY:BEAUTY FAIR - Feira Internacional de Beleza Profissional
DESCRIPTION:Aberto ao público mediante convite e ingresso
URL:https://www.copastur.com.br/evento/beauty-fair-feira-internacional-de-beleza-profissional/
LOCATION:Expo Center Norte\, São Paulo\, SP\, Brazil
CATEGORIES:Estética
END:VEVENT
BEGIN:VEVENT
DTSTART;VALUE=DATE:20250906
DTEND;VALUE=DATE:20250910
DTSTAMP:20260422T081408
CREATED:20250110T201954Z
LAST-MODIFIED:20250123T145503Z
UID:75390-1757116800-1757462399@www.copastur.com.br
SUMMARY:Congresso de Extensão de Cílios (Beauty Fair)
DESCRIPTION:Aberto ao público mediante ingresso
URL:https://www.copastur.com.br/evento/congresso-de-extensao-de-cilios-beauty-fair/
LOCATION:Expo Center Norte\, São Paulo\, SP\, Brazil
CATEGORIES:Estética
END:VEVENT
BEGIN:VEVENT
DTSTART;VALUE=DATE:20250906
DTEND;VALUE=DATE:20250910
DTSTAMP:20260422T081408
CREATED:20250110T201954Z
LAST-MODIFIED:20250123T145545Z
UID:75391-1757116800-1757462399@www.copastur.com.br
SUMMARY:Congresso de Manicures (Beauty Fair)
DESCRIPTION:Aberto ao público mediante ingresso
URL:https://www.copastur.com.br/evento/congresso-de-manicures-beauty-fair/
LOCATION:Expo Center Norte\, São Paulo\, SP\, Brazil
CATEGORIES:Estética
END:VEVENT
BEGIN:VEVENT
DTSTART;VALUE=DATE:20250906
DTEND;VALUE=DATE:20250910
DTSTAMP:20260422T081408
CREATED:20250110T201955Z
LAST-MODIFIED:20250123T140501Z
UID:75392-1757116800-1757462399@www.copastur.com.br
SUMMARY:Congresso de Podologia (Beauty Fair)
DESCRIPTION:Aberto ao público mediante ingresso
URL:https://www.copastur.com.br/evento/congresso-de-podologia-beauty-fair/
LOCATION:Expo Center Norte\, São Paulo\, SP\, Brazil
CATEGORIES:Estética
END:VEVENT
BEGIN:VEVENT
DTSTART;VALUE=DATE:20250906
DTEND;VALUE=DATE:20250910
DTSTAMP:20260422T081408
CREATED:20250110T201956Z
LAST-MODIFIED:20250123T143328Z
UID:75393-1757116800-1757462399@www.copastur.com.br
SUMMARY:Congresso Internacional de Maquiagem Profissional (Beauty Fair)
DESCRIPTION:Aberto ao público mediante ingresso
URL:https://www.copastur.com.br/evento/congresso-internacional-de-maquiagem-profissional-beauty-fair/
LOCATION:Expo Center Norte\, São Paulo\, SP\, Brazil
CATEGORIES:Estética
END:VEVENT
BEGIN:VEVENT
DTSTART;VALUE=DATE:20250906
DTEND;VALUE=DATE:20250910
DTSTAMP:20260422T081408
CREATED:20250110T202154Z
LAST-MODIFIED:20250123T143347Z
UID:75394-1757116800-1757462399@www.copastur.com.br
SUMMARY:Fórum Beauty Fair do Varejo de Beleza
DESCRIPTION:Aberto ao público mediante ingresso
URL:https://www.copastur.com.br/evento/forum-beauty-fair-do-varejo-de-beleza/
LOCATION:Expo Center Norte\, São Paulo\, SP\, Brazil
CATEGORIES:Estética
END:VEVENT
BEGIN:VEVENT
DTSTART;VALUE=DATE:20250906
DTEND;VALUE=DATE:20250910
DTSTAMP:20260422T081408
CREATED:20250110T202155Z
LAST-MODIFIED:20250123T143501Z
UID:75395-1757116800-1757462399@www.copastur.com.br
SUMMARY:Congresso de Depilação (Beauty Fair)
DESCRIPTION:Aberto ao público mediante ingresso
URL:https://www.copastur.com.br/evento/congresso-de-depilacao-beauty-fair/
LOCATION:Expo Center Norte\, São Paulo\, SP\, Brazil
CATEGORIES:Estética
END:VEVENT
BEGIN:VEVENT
DTSTART;VALUE=DATE:20250906
DTEND;VALUE=DATE:20250910
DTSTAMP:20260422T081408
CREATED:20250110T202156Z
LAST-MODIFIED:20250123T144136Z
UID:75396-1757116800-1757462399@www.copastur.com.br
SUMMARY:Congresso Internacional Barber (Beauty Fair)
DESCRIPTION:Aberto ao público mediante ingresso
URL:https://www.copastur.com.br/evento/congresso-internacional-barber-beauty-fair/
LOCATION:Expo Center Norte\, São Paulo\, SP\, Brazil
CATEGORIES:Estética
END:VEVENT
BEGIN:VEVENT
DTSTART;VALUE=DATE:20250906
DTEND;VALUE=DATE:20250910
DTSTAMP:20260422T081408
CREATED:20250110T202157Z
LAST-MODIFIED:20250123T144151Z
UID:75397-1757116800-1757462399@www.copastur.com.br
SUMMARY:Estética Trends Beauty Fair 2025
DESCRIPTION:Aberto ao público mediante convite e ingresso
URL:https://www.copastur.com.br/evento/estetica-trends-beauty-fair-2025/
LOCATION:Expo Center Norte\, São Paulo\, SP\, Brazil
CATEGORIES:Estética
END:VEVENT
END:VCALENDAR