BEGIN:VCALENDAR
VERSION:2.0
PRODID:-//Copastur - ECPv6.15.20//NONSGML v1.0//EN
CALSCALE:GREGORIAN
METHOD:PUBLISH
X-WR-CALNAME:Copastur
X-ORIGINAL-URL:https://www.copastur.com.br
X-WR-CALDESC:Eventos para Copastur
REFRESH-INTERVAL;VALUE=DURATION:PT1H
X-Robots-Tag:noindex
X-PUBLISHED-TTL:PT1H
BEGIN:VTIMEZONE
TZID:America/Sao_Paulo
BEGIN:STANDARD
TZOFFSETFROM:-0300
TZOFFSETTO:-0300
TZNAME:-03
DTSTART:20240101T000000
END:STANDARD
END:VTIMEZONE
BEGIN:VEVENT
DTSTART;VALUE=DATE:20250905
DTEND;VALUE=DATE:20251006
DTSTAMP:20260422T065913
CREATED:20250109T125411Z
LAST-MODIFIED:20250109T185610Z
UID:74773-1757030400-1759708799@www.copastur.com.br
SUMMARY:ExpoSíndico (ExpoSíndiconline Brasil da CONASI) (Expo Síndico Online)
DESCRIPTION:Aberto ao público
URL:https://www.copastur.com.br/evento/exposindico-exposindiconline-brasil-da-conasi-expo-sindico-online/
LOCATION:Online\, São Paulo\, SP\, Brasil
CATEGORIES:Móveis e Decorações
END:VEVENT
BEGIN:VEVENT
DTSTART;VALUE=DATE:20250919
DTEND;VALUE=DATE:20250928
DTSTAMP:20260422T065913
CREATED:20250110T204741Z
LAST-MODIFIED:20250120T151621Z
UID:75425-1758240000-1759017599@www.copastur.com.br
SUMMARY:Jaguariúna Rodeo Festival 2025
DESCRIPTION:Aberto ao público
URL:https://www.copastur.com.br/evento/jaguariuna-rodeo-festival-2025/
LOCATION:Red Eventos\, Jaguariúna\, SP\, Brasil
CATEGORIES:Agropecuário,Comercial e Industrial
END:VEVENT
BEGIN:VEVENT
DTSTART;VALUE=DATE:20250922
DTEND;VALUE=DATE:20250925
DTSTAMP:20260422T065913
CREATED:20250110T204745Z
LAST-MODIFIED:20250120T153455Z
UID:75428-1758499200-1758758399@www.copastur.com.br
SUMMARY:SAVCARNE - Salão do Varejo da Carne
DESCRIPTION:Aberto ao público mediante convite e ingresso
URL:https://www.copastur.com.br/evento/savcarne-salao-do-varejo-da-carne/
LOCATION:Distrito Anhembi\, São Paulo\, SP\, Brazil
CATEGORIES:Alimentos e Bebidas
END:VEVENT
BEGIN:VEVENT
DTSTART;VALUE=DATE:20250922
DTEND;VALUE=DATE:20250927
DTSTAMP:20260422T065913
CREATED:20250110T204744Z
LAST-MODIFIED:20250120T151641Z
UID:75427-1758499200-1758931199@www.copastur.com.br
SUMMARY:CONBCON 2025 - Congresso Online Brasileiro de Contabilidade
DESCRIPTION:Aberto ao público mediante ingresso
URL:https://www.copastur.com.br/evento/conbcon-2025-congresso-online-brasileiro-de-contabilidade/
LOCATION:Online\, São Paulo\, SP\, Brasil
CATEGORIES:Gestão
END:VEVENT
BEGIN:VEVENT
DTSTART;VALUE=DATE:20250923
DTEND;VALUE=DATE:20250925
DTSTAMP:20260422T065913
CREATED:20250110T204940Z
LAST-MODIFIED:20250120T153513Z
UID:75429-1758585600-1758758399@www.copastur.com.br
SUMMARY:SEINCC - Semana da Indústria Calçadista Catarinense
DESCRIPTION:Especializado mediante convite
URL:https://www.copastur.com.br/evento/seincc-semana-da-industria-calcadista-catarinense/
LOCATION:Centro Empresarial e Cultural de São João Batista\, São João Batista\, SC\, Brasil
CATEGORIES:Couro
END:VEVENT
BEGIN:VEVENT
DTSTART;VALUE=DATE:20250923
DTEND;VALUE=DATE:20250925
DTSTAMP:20260422T065913
CREATED:20250110T204942Z
LAST-MODIFIED:20250120T153536Z
UID:75431-1758585600-1758758399@www.copastur.com.br
SUMMARY:Congresso de Gestão de Contratos
DESCRIPTION:Aberto ao público mediante ingresso
URL:https://www.copastur.com.br/evento/congresso-de-gestao-de-contratos/
LOCATION:Hotel Panamby\, São Paulo\, SP\, Brasil
CATEGORIES:Gestão
END:VEVENT
BEGIN:VEVENT
DTSTART;VALUE=DATE:20250923
DTEND;VALUE=DATE:20250925
DTSTAMP:20260422T065913
CREATED:20250110T204943Z
LAST-MODIFIED:20250120T153549Z
UID:75432-1758585600-1758758399@www.copastur.com.br
SUMMARY:in-cosmetics latin America
DESCRIPTION:Restrito a profissionais do setor
URL:https://www.copastur.com.br/evento/in-cosmetics-latin-america/
LOCATION:Expo Center Norte\, São Paulo\, SP\, Brazil
CATEGORIES:Estética
END:VEVENT
BEGIN:VEVENT
DTSTART;VALUE=DATE:20250923
DTEND;VALUE=DATE:20250926
DTSTAMP:20260422T065913
CREATED:20250110T204941Z
LAST-MODIFIED:20250123T183036Z
UID:75430-1758585600-1758844799@www.copastur.com.br
SUMMARY:EXPO-HOSPITAL BRASIL
DESCRIPTION:Aberto ao público
URL:https://www.copastur.com.br/evento/expo-hospital-brasil-expo-hospital-brasil/
LOCATION:Expominas – Belo Horizonte\, Belo Horizonte\, MG\, Brazil
CATEGORIES:Saúde
END:VEVENT
BEGIN:VEVENT
DTSTART;VALUE=DATE:20250923
DTEND;VALUE=DATE:20250926
DTSTAMP:20260422T065913
CREATED:20250110T204944Z
LAST-MODIFIED:20250120T153558Z
UID:75433-1758585600-1758844799@www.copastur.com.br
SUMMARY:MAQUINTEX 2024 - Feira de Máquinas\, Equipamentos\, Serviços e Química para a Indústria Têxtil
DESCRIPTION:Aberto ao público
URL:https://www.copastur.com.br/evento/maquintex-2024-feira-de-maquinas-equipamentos-servicos-e-quimica-para-a-industria-textil/
LOCATION:Centro de Eventos do Ceará\, Fortaleza\, CE\, Brazil
CATEGORIES:Setores Têxtil
END:VEVENT
BEGIN:VEVENT
DTSTART;VALUE=DATE:20250923
DTEND;VALUE=DATE:20250926
DTSTAMP:20260422T065913
CREATED:20250110T205140Z
LAST-MODIFIED:20250120T153617Z
UID:75434-1758585600-1758844799@www.copastur.com.br
SUMMARY:Signs Norte e Nordeste
DESCRIPTION:Aberto ao público
URL:https://www.copastur.com.br/evento/signs-norte-e-nordeste/
LOCATION:Centro de Eventos do Ceará\, Fortaleza\, CE\, Brazil
CATEGORIES:Setores Têxtil
END:VEVENT
BEGIN:VEVENT
DTSTART;VALUE=DATE:20250923
DTEND;VALUE=DATE:20250926
DTSTAMP:20260422T065913
CREATED:20250110T205141Z
LAST-MODIFIED:20250120T153624Z
UID:75435-1758585600-1758844799@www.copastur.com.br
SUMMARY:Pack Graph
DESCRIPTION:Aberto ao público
URL:https://www.copastur.com.br/evento/pack-graph-packgraph/
LOCATION:Centro de Eventos do Ceará\, Fortaleza\, CE\, Brazil
CATEGORIES:Tecnologia Industrial
END:VEVENT
BEGIN:VEVENT
DTSTART;VALUE=DATE:20250924
DTEND;VALUE=DATE:20250926
DTSTAMP:20260422T065913
CREATED:20250110T205142Z
LAST-MODIFIED:20250120T153633Z
UID:75436-1758672000-1758844799@www.copastur.com.br
SUMMARY:CSCM 2025 - Connected Smart Cities & Mobility (Connected Smart Cities)
DESCRIPTION:Aberto ao público
URL:https://www.copastur.com.br/evento/cscm-2025-connected-smart-cities-mobility-connected-smart-cities/
LOCATION:Expo Center Norte\, São Paulo\, SP\, Brazil
CATEGORIES:Tecnologia e Inovação
END:VEVENT
BEGIN:VEVENT
DTSTART;VALUE=DATE:20250924
DTEND;VALUE=DATE:20250926
DTSTAMP:20260422T065913
CREATED:20250110T205143Z
LAST-MODIFIED:20250120T153643Z
UID:75437-1758672000-1758844799@www.copastur.com.br
SUMMARY:Proenergia Summit 2025
DESCRIPTION:Aberto ao público mediante convite
URL:https://www.copastur.com.br/evento/proenergia-summit-2025/
LOCATION:Centro de Eventos do Ceará\, Fortaleza\, CE\, Brazil
CATEGORIES:Energia
END:VEVENT
BEGIN:VEVENT
DTSTART;VALUE=DATE:20250924
DTEND;VALUE=DATE:20250926
DTSTAMP:20260422T065913
CREATED:20250110T205340Z
LAST-MODIFIED:20250120T153712Z
UID:75439-1758672000-1758844799@www.copastur.com.br
SUMMARY:FEALSC - Feira de Produtos\, Serviços e Equipamentos para Operadores de Alimentação Food Service (FEAL SC)
DESCRIPTION:Aberto ao público
URL:https://www.copastur.com.br/evento/fealsc-feira-de-produtos-servicos-e-equipamentos-para-operadores-de-alimentacao-food-service-feal-sc/
LOCATION:Centrosul – Centro de Convenções de Florianópolis\, Florianópolis\, SC\, Brazil
CATEGORIES:Alimentos e Bebidas
END:VEVENT
BEGIN:VEVENT
DTSTART;VALUE=DATE:20250924
DTEND;VALUE=DATE:20250926
DTSTAMP:20260422T065913
CREATED:20250110T205341Z
LAST-MODIFIED:20250120T153749Z
UID:75440-1758672000-1758844799@www.copastur.com.br
SUMMARY:Expo Confeitaria SC (ExpoConfeitaria)
DESCRIPTION:Aberto ao público mediante convite
URL:https://www.copastur.com.br/evento/expo-confeitaria-sc-expoconfeitaria/
LOCATION:Centrosul – Centro de Convenções de Florianópolis\, Florianópolis\, SC\, Brazil
CATEGORIES:Alimentos e Bebidas
END:VEVENT
BEGIN:VEVENT
DTSTART;VALUE=DATE:20250924
DTEND;VALUE=DATE:20250929
DTSTAMP:20260422T065913
CREATED:20250110T205144Z
LAST-MODIFIED:20250120T153655Z
UID:75438-1758672000-1759103999@www.copastur.com.br
SUMMARY:COB EXPO 2025
DESCRIPTION:Aberto ao público mediante convite
URL:https://www.copastur.com.br/evento/cob-expo-2025/
LOCATION:Pro Magno Centro de Eventos\, São Paulo\, SP\, Brasil
CATEGORIES:Lazer
END:VEVENT
END:VCALENDAR