BEGIN:VCALENDAR
VERSION:2.0
PRODID:-//Copastur - ECPv6.15.20//NONSGML v1.0//EN
CALSCALE:GREGORIAN
METHOD:PUBLISH
X-ORIGINAL-URL:https://www.copastur.com.br
X-WR-CALDESC:Eventos para Copastur
REFRESH-INTERVAL;VALUE=DURATION:PT1H
X-Robots-Tag:noindex
X-PUBLISHED-TTL:PT1H
BEGIN:VTIMEZONE
TZID:America/Sao_Paulo
BEGIN:STANDARD
TZOFFSETFROM:-0300
TZOFFSETTO:-0300
TZNAME:-03
DTSTART:20240101T000000
END:STANDARD
END:VTIMEZONE
BEGIN:VEVENT
DTSTART;VALUE=DATE:20250905
DTEND;VALUE=DATE:20251006
DTSTAMP:20260422T065907
CREATED:20250109T125411Z
LAST-MODIFIED:20250109T185610Z
UID:74773-1757030400-1759708799@www.copastur.com.br
SUMMARY:ExpoSíndico (ExpoSíndiconline Brasil da CONASI) (Expo Síndico Online)
DESCRIPTION:Aberto ao público
URL:https://www.copastur.com.br/evento/exposindico-exposindiconline-brasil-da-conasi-expo-sindico-online/
LOCATION:Online\, São Paulo\, SP\, Brasil
CATEGORIES:Móveis e Decorações
END:VEVENT
BEGIN:VEVENT
DTSTART;VALUE=DATE:20250930
DTEND;VALUE=DATE:20251003
DTSTAMP:20260422T065907
CREATED:20250110T205542Z
LAST-MODIFIED:20250113T152134Z
UID:75445-1759190400-1759449599@www.copastur.com.br
SUMMARY:Prowine Forum
DESCRIPTION:Aberto ao público mediante convite
URL:https://www.copastur.com.br/evento/prowine-forum/
LOCATION:Expo Center Norte\, São Paulo\, SP\, Brazil
CATEGORIES:Alimentos e Bebidas
END:VEVENT
BEGIN:VEVENT
DTSTART;VALUE=DATE:20251001
DTEND;VALUE=DATE:20251003
DTSTAMP:20260422T065907
CREATED:20250110T205543Z
LAST-MODIFIED:20250113T175202Z
UID:75446-1759276800-1759449599@www.copastur.com.br
SUMMARY:HIS - Healthcare Innovation Show
DESCRIPTION:Restrito a profissionais do setor
URL:https://www.copastur.com.br/evento/his-healthcare-innovation-show/
LOCATION:São Paulo Expo Exhibition & Convention Center\, São Paulo\, SP\, Brazil
CATEGORIES:Saúde
END:VEVENT
BEGIN:VEVENT
DTSTART;VALUE=DATE:20251001
DTEND;VALUE=DATE:20251005
DTSTAMP:20260422T065907
CREATED:20250110T205544Z
LAST-MODIFIED:20250113T175305Z
UID:75447-1759276800-1759622399@www.copastur.com.br
SUMMARY:RIOPARTS - Feria da Indústria de Autopeças e Reparação Automotiva
DESCRIPTION:Aberto ao público
URL:https://www.copastur.com.br/evento/rioparts-feria-da-industria-de-autopecas-e-reparacao-automotiva/
LOCATION:Expo MAG (Antigo Centro de Convenções SulAmérica)\, Rio de Janeiro\, RJ\, Brazil
CATEGORIES:Setores Automotivo e Nautico
END:VEVENT
END:VCALENDAR