BEGIN:VCALENDAR
VERSION:2.0
PRODID:-//Copastur - ECPv6.15.20//NONSGML v1.0//EN
CALSCALE:GREGORIAN
METHOD:PUBLISH
X-WR-CALNAME:Copastur
X-ORIGINAL-URL:https://www.copastur.com.br
X-WR-CALDESC:Eventos para Copastur
REFRESH-INTERVAL;VALUE=DURATION:PT1H
X-Robots-Tag:noindex
X-PUBLISHED-TTL:PT1H
BEGIN:VTIMEZONE
TZID:America/Sao_Paulo
BEGIN:STANDARD
TZOFFSETFROM:-0300
TZOFFSETTO:-0300
TZNAME:-03
DTSTART:20240101T000000
END:STANDARD
END:VTIMEZONE
BEGIN:VEVENT
DTSTART;VALUE=DATE:20250905
DTEND;VALUE=DATE:20251006
DTSTAMP:20260422T081350
CREATED:20250109T125411Z
LAST-MODIFIED:20250109T185610Z
UID:74773-1757030400-1759708799@www.copastur.com.br
SUMMARY:ExpoSíndico (ExpoSíndiconline Brasil da CONASI) (Expo Síndico Online)
DESCRIPTION:Aberto ao público
URL:https://www.copastur.com.br/evento/exposindico-exposindiconline-brasil-da-conasi-expo-sindico-online/
LOCATION:Online\, São Paulo\, SP\, Brasil
CATEGORIES:Móveis e Decorações
END:VEVENT
BEGIN:VEVENT
DTSTART;VALUE=DATE:20251003
DTEND;VALUE=DATE:20251006
DTSTAMP:20260422T081350
CREATED:20250110T205742Z
LAST-MODIFIED:20250123T193844Z
UID:75449-1759449600-1759708799@www.copastur.com.br
SUMMARY:CONEDU - Congresso Nacional de Educação
DESCRIPTION:Aberto ao público mediante convite
URL:https://www.copastur.com.br/evento/conedu-congresso-nacional-de-educacao/
LOCATION:Centro de Convenções de Pernambuco\, Olinda\, PE\, Brazil
CATEGORIES:Cultura e Educação
END:VEVENT
BEGIN:VEVENT
DTSTART;VALUE=DATE:20251005
DTEND;VALUE=DATE:20251009
DTSTAMP:20260422T081350
CREATED:20250110T205743Z
LAST-MODIFIED:20250123T194044Z
UID:75451-1759622400-1759967999@www.copastur.com.br
SUMMARY:CBRA 2025 - Congresso Brasileiro de Reprodução Assistida
DESCRIPTION:Aberto ao público mediante ingresso
URL:https://www.copastur.com.br/evento/cbra-2025-congresso-brasileiro-de-reproducao-assistida/
LOCATION:WTC – World Trade Center São Paulo\, São Paulo\, SP\, Brazil
CATEGORIES:Saúde
END:VEVENT
END:VCALENDAR