BEGIN:VCALENDAR
VERSION:2.0
PRODID:-//Copastur - ECPv6.15.20//NONSGML v1.0//EN
CALSCALE:GREGORIAN
METHOD:PUBLISH
X-WR-CALNAME:Copastur
X-ORIGINAL-URL:https://www.copastur.com.br
X-WR-CALDESC:Eventos para Copastur
REFRESH-INTERVAL;VALUE=DURATION:PT1H
X-Robots-Tag:noindex
X-PUBLISHED-TTL:PT1H
BEGIN:VTIMEZONE
TZID:America/Sao_Paulo
BEGIN:STANDARD
TZOFFSETFROM:-0300
TZOFFSETTO:-0300
TZNAME:-03
DTSTART:20240101T000000
END:STANDARD
END:VTIMEZONE
BEGIN:VEVENT
DTSTART;VALUE=DATE:20251021
DTEND;VALUE=DATE:20251025
DTSTAMP:20260422T081347
CREATED:20250110T210143Z
LAST-MODIFIED:20250120T151859Z
UID:75459-1761004800-1761350399@www.copastur.com.br
SUMMARY:TECNAL - Feira de Tecnologia Para Indústria de Alimentos e Bebidas
DESCRIPTION:Aberto ao público
URL:https://www.copastur.com.br/evento/tecnal-feira-de-tecnologia-para-industria-de-alimentos-e-bebidas/
LOCATION:ExpoTrade Convention Center\, Pinhais\, PR\, Brazil
CATEGORIES:Alimentos e Bebidas
END:VEVENT
END:VCALENDAR