BEGIN:VCALENDAR
VERSION:2.0
PRODID:-//Copastur - ECPv6.15.20//NONSGML v1.0//EN
CALSCALE:GREGORIAN
METHOD:PUBLISH
X-ORIGINAL-URL:https://www.copastur.com.br
X-WR-CALDESC:Eventos para Copastur
REFRESH-INTERVAL;VALUE=DURATION:PT1H
X-Robots-Tag:noindex
X-PUBLISHED-TTL:PT1H
BEGIN:VTIMEZONE
TZID:America/Sao_Paulo
BEGIN:STANDARD
TZOFFSETFROM:-0300
TZOFFSETTO:-0300
TZNAME:-03
DTSTART:20240101T000000
END:STANDARD
END:VTIMEZONE
BEGIN:VEVENT
DTSTART;VALUE=DATE:20251030
DTEND;VALUE=DATE:20251102
DTSTAMP:20260422T081442
CREATED:20250110T210346Z
LAST-MODIFIED:20250113T185724Z
UID:75467-1761782400-1762041599@www.copastur.com.br
SUMMARY:Obesity Week Brasil 2025
DESCRIPTION:Restrito a profissionais do setor
URL:https://www.copastur.com.br/evento/obesity-week-brasil-2025/
LOCATION:Centro de Convenções Frei Caneca\, São Paulo\, SP\, Brazil
CATEGORIES:Saúde
END:VEVENT
BEGIN:VEVENT
DTSTART;VALUE=DATE:20251030
DTEND;VALUE=DATE:20251102
DTSTAMP:20260422T081442
CREATED:20250110T210347Z
LAST-MODIFIED:20250113T185741Z
UID:75468-1761782400-1762041599@www.copastur.com.br
SUMMARY:Pan American Congress On Obesity Medicine
DESCRIPTION:Restrito a profissionais do setor
URL:https://www.copastur.com.br/evento/pan-american-congress-on-obesity-medicine/
LOCATION:Centro de Convenções Frei Caneca\, São Paulo\, SP\, Brazil
CATEGORIES:Saúde
END:VEVENT
BEGIN:VEVENT
DTSTART;VALUE=DATE:20251030
DTEND;VALUE=DATE:20251102
DTSTAMP:20260422T081442
CREATED:20250110T210543Z
LAST-MODIFIED:20250113T185759Z
UID:75469-1761782400-1762041599@www.copastur.com.br
SUMMARY:Congresso Brasileiro de Medicina da Obesidade
DESCRIPTION:Restrito a profissionais do setor
URL:https://www.copastur.com.br/evento/congresso-brasileiro-de-medicina-da-obesidade/
LOCATION:Centro de Convenções Frei Caneca\, São Paulo\, SP\, Brazil
CATEGORIES:Saúde
END:VEVENT
BEGIN:VEVENT
DTSTART;VALUE=DATE:20251030
DTEND;VALUE=DATE:20251102
DTSTAMP:20260422T081442
CREATED:20250110T210545Z
LAST-MODIFIED:20250113T185820Z
UID:75470-1761782400-1762041599@www.copastur.com.br
SUMMARY:HABITACON - Feira de Fornecedores para Habitação & Condomínios
DESCRIPTION:Aberto ao público
URL:https://www.copastur.com.br/evento/habitacon-feira-de-fornecedores-para-habitacao-condominios/
LOCATION:Centro de Eventos Positivo\, Curitiba\, PR\, Brazil
CATEGORIES:Móveis e Decorações
END:VEVENT
END:VCALENDAR