BEGIN:VCALENDAR
VERSION:2.0
PRODID:-//Copastur - ECPv6.15.20//NONSGML v1.0//EN
CALSCALE:GREGORIAN
METHOD:PUBLISH
X-WR-CALNAME:Copastur
X-ORIGINAL-URL:https://www.copastur.com.br
X-WR-CALDESC:Eventos para Copastur
REFRESH-INTERVAL;VALUE=DURATION:PT1H
X-Robots-Tag:noindex
X-PUBLISHED-TTL:PT1H
BEGIN:VTIMEZONE
TZID:America/Sao_Paulo
BEGIN:STANDARD
TZOFFSETFROM:-0300
TZOFFSETTO:-0300
TZNAME:-03
DTSTART:20240101T000000
END:STANDARD
END:VTIMEZONE
BEGIN:VEVENT
DTSTART;VALUE=DATE:20251104
DTEND;VALUE=DATE:20251108
DTSTAMP:20260422T093527
CREATED:20250110T210547Z
LAST-MODIFIED:20250123T195044Z
UID:75472-1762214400-1762559999@www.copastur.com.br
SUMMARY:SIM 2025 - Semana Industrial Mineira
DESCRIPTION:Aberto ao público mediante convite
URL:https://www.copastur.com.br/evento/sim-2025-semana-industrial-mineira/
LOCATION:Expominas – Belo Horizonte\, Belo Horizonte\, MG\, Brazil
CATEGORIES:Tecnologia Industrial
END:VEVENT
BEGIN:VEVENT
DTSTART;VALUE=DATE:20251105
DTEND;VALUE=DATE:20251108
DTSTAMP:20260422T093527
CREATED:20250110T210548Z
LAST-MODIFIED:20250123T195152Z
UID:75473-1762300800-1762559999@www.copastur.com.br
SUMMARY:HFN - Hotel & Food Nordeste
DESCRIPTION:Especializado mediante convite
URL:https://www.copastur.com.br/evento/hfn-hotel-food-nordeste/
LOCATION:Centro de Convenções de Pernambuco\, Olinda\, PE\, Brazil
CATEGORIES:Turismo e Hotelaria
END:VEVENT
END:VCALENDAR