BEGIN:VCALENDAR
VERSION:2.0
PRODID:-//Copastur - ECPv6.15.20//NONSGML v1.0//EN
CALSCALE:GREGORIAN
METHOD:PUBLISH
X-ORIGINAL-URL:https://www.copastur.com.br
X-WR-CALDESC:Eventos para Copastur
REFRESH-INTERVAL;VALUE=DURATION:PT1H
X-Robots-Tag:noindex
X-PUBLISHED-TTL:PT1H
BEGIN:VTIMEZONE
TZID:America/Sao_Paulo
BEGIN:STANDARD
TZOFFSETFROM:-0300
TZOFFSETTO:-0300
TZNAME:-03
DTSTART:20240101T000000
END:STANDARD
END:VTIMEZONE
BEGIN:VEVENT
DTSTART;VALUE=DATE:20250813
DTEND;VALUE=DATE:20250818
DTSTAMP:20260422T082312
CREATED:20250110T193328Z
LAST-MODIFIED:20250122T203855Z
UID:75314-1755043200-1755475199@www.copastur.com.br
SUMMARY:AGROPONTE - Feira do Agronegócio & Agricultura Familiar
DESCRIPTION:Aberto ao público
URL:https://www.copastur.com.br/evento/agroponte-feira-do-agronegocio-agricultura-familiar/
LOCATION:Centro de Eventos José Ijair Conti\, Criciúma\, SC\, Brasil
CATEGORIES:Agropecuário,Comercial e Industrial
END:VEVENT
BEGIN:VEVENT
DTSTART;VALUE=DATE:20250814
DTEND;VALUE=DATE:20250818
DTSTAMP:20260422T082312
CREATED:20250110T193329Z
LAST-MODIFIED:20250115T195704Z
UID:75317-1755129600-1755475199@www.copastur.com.br
SUMMARY:Salão de Arte 2025
DESCRIPTION:Aberto ao público mediante convite e ingresso
URL:https://www.copastur.com.br/evento/salao-de-arte-2025/
LOCATION:Clube Hebraica\, São Paulo\, SP\, Brasil
CATEGORIES:Artes
END:VEVENT
BEGIN:VEVENT
DTSTART;VALUE=DATE:20250814
DTEND;VALUE=DATE:20250818
DTSTAMP:20260422T082312
CREATED:20250110T193527Z
LAST-MODIFIED:20250115T195728Z
UID:75318-1755129600-1755475199@www.copastur.com.br
SUMMARY:Innovation Meeting BR 2025
DESCRIPTION:Especializado mediante convite
URL:https://www.copastur.com.br/evento/innovation-meeting-br-2025/
LOCATION:Enotel Hotels & Resorts – Porto de Galinhas\, Ipojuca\, PE\, Brasil
CATEGORIES:Tecnologia e Inovação
END:VEVENT
BEGIN:VEVENT
DTSTART;VALUE=DATE:20250814
DTEND;VALUE=DATE:20250824
DTSTAMP:20260422T082312
CREATED:20250110T193329Z
LAST-MODIFIED:20250115T195625Z
UID:75316-1755129600-1755993599@www.copastur.com.br
SUMMARY:CGFM - Conexões Gramado Film Market
DESCRIPTION:Aberto ao público mediante convite
URL:https://www.copastur.com.br/evento/cgfm-conexoes-gramado-film-market/
LOCATION:Gramado\, Gramado\, RS\, Brazil
CATEGORIES:Audiovisual
END:VEVENT
BEGIN:VEVENT
DTSTART;VALUE=DATE:20250814
DTEND;VALUE=DATE:20250824
DTSTAMP:20260422T082312
CREATED:20250110T193529Z
LAST-MODIFIED:20250115T200009Z
UID:75320-1755129600-1755993599@www.copastur.com.br
SUMMARY:Festival de Cultura e Gastronomia de Gramado
DESCRIPTION:Aberto ao público
URL:https://www.copastur.com.br/evento/festival-de-cultura-e-gastronomia-de-gramado/
LOCATION:Gramado\, Gramado\, RS\, Brazil
CATEGORIES:Alimentos e Bebidas
END:VEVENT
BEGIN:VEVENT
DTSTART;VALUE=DATE:20250816
DTEND;VALUE=DATE:20250818
DTSTAMP:20260422T082312
CREATED:20250110T193531Z
LAST-MODIFIED:20250115T200911Z
UID:75322-1755302400-1755475199@www.copastur.com.br
SUMMARY:Mystic Fair 2025 (Rio de Janeiro)
DESCRIPTION:Aberto ao público mediante ingresso
URL:https://www.copastur.com.br/evento/mystic-fair-2025-rio-de-janeiro/
LOCATION:Clube Monte Líbano\, Rio de Janeiro\, RJ\, Brasil
CATEGORIES:Outros Segmentos
END:VEVENT
BEGIN:VEVENT
DTSTART;VALUE=DATE:20250818
DTEND;VALUE=DATE:20250822
DTSTAMP:20260422T082312
CREATED:20250110T193728Z
LAST-MODIFIED:20250115T201130Z
UID:75324-1755475200-1755820799@www.copastur.com.br
SUMMARY:SET EXPO 2025 - Congresso e Feira de Produtos e Serviços
DESCRIPTION:Aberto ao público
URL:https://www.copastur.com.br/evento/set-expo-2025-congresso-e-feira-de-produtos-e-servicos/
LOCATION:Distrito Anhembi\, São Paulo\, SP\, Brazil
CATEGORIES:Audiovisual
END:VEVENT
BEGIN:VEVENT
DTSTART;VALUE=DATE:20250819
DTEND;VALUE=DATE:20250822
DTSTAMP:20260422T082312
CREATED:20250110T193730Z
LAST-MODIFIED:20250115T201159Z
UID:75326-1755561600-1755820799@www.copastur.com.br
SUMMARY:Concrete Show South America 2025
DESCRIPTION:Restrito a profissionais do setor
URL:https://www.copastur.com.br/evento/concrete-show-south-america-2025/
LOCATION:São Paulo Expo Exhibition & Convention Center\, São Paulo\, SP\, Brazil
CATEGORIES:Construção Civil
END:VEVENT
BEGIN:VEVENT
DTSTART;VALUE=DATE:20250819
DTEND;VALUE=DATE:20250822
DTSTAMP:20260422T082312
CREATED:20250110T193731Z
LAST-MODIFIED:20250115T201224Z
UID:75327-1755561600-1755820799@www.copastur.com.br
SUMMARY:Congresso AVAG 2025 - Congresso da Aviação Agrícola do Brasil
DESCRIPTION:Aberto ao público mediante ingresso
URL:https://www.copastur.com.br/evento/congresso-avag-2025-congresso-da-aviacao-agricola-do-brasil/
LOCATION:Aeroporto Executivo de Santo Antônio do Leverger (S.W.L.V)\, Cuiabá\, SP\, Brasil
CATEGORIES:Aeronáutica e Tecnologia para Aeroportos
END:VEVENT
BEGIN:VEVENT
DTSTART;VALUE=DATE:20250819
DTEND;VALUE=DATE:20250822
DTSTAMP:20260422T082312
CREATED:20250110T193929Z
LAST-MODIFIED:20250115T201238Z
UID:75329-1755561600-1755820799@www.copastur.com.br
SUMMARY:CONARH 2025
DESCRIPTION:Aberto ao público mediante convite e ingresso
URL:https://www.copastur.com.br/evento/conarh-2025/
LOCATION:São Paulo Expo Exhibition & Convention Center\, São Paulo\, SP\, Brazil
CATEGORIES:Gestão
END:VEVENT
BEGIN:VEVENT
DTSTART;VALUE=DATE:20250819
DTEND;VALUE=DATE:20250822
DTSTAMP:20260422T082312
CREATED:20250110T193930Z
LAST-MODIFIED:20250115T201250Z
UID:75330-1755561600-1755820799@www.copastur.com.br
SUMMARY:EXPO ABRH
DESCRIPTION:Aberto ao público mediante convite e ingresso
URL:https://www.copastur.com.br/evento/expo-abrh/
LOCATION:São Paulo Expo Exhibition & Convention Center\, São Paulo\, SP\, Brazil
CATEGORIES:Gestão
END:VEVENT
BEGIN:VEVENT
DTSTART;VALUE=DATE:20250819
DTEND;VALUE=DATE:20250822
DTSTAMP:20260422T082312
CREATED:20250110T193931Z
LAST-MODIFIED:20250115T201306Z
UID:75331-1755561600-1755820799@www.copastur.com.br
SUMMARY:Febratex Summit 2024
DESCRIPTION:Aberto ao público mediante ingresso
URL:https://www.copastur.com.br/evento/febratex-summit-2024/
LOCATION:Parque de Exposições Vila Germânica\, Blumenau\, SC\, Brasil
CATEGORIES:Setores Têxtil
END:VEVENT
BEGIN:VEVENT
DTSTART;VALUE=DATE:20250819
DTEND;VALUE=DATE:20250823
DTSTAMP:20260422T082312
CREATED:20250110T193729Z
LAST-MODIFIED:20250115T201145Z
UID:75325-1755561600-1755907199@www.copastur.com.br
SUMMARY:ExpoConstruir 2025
DESCRIPTION:Aberto ao público mediante convite
URL:https://www.copastur.com.br/evento/expoconstruir-2025-expo-construir/
LOCATION:Centro de Eventos do Ceará\, Fortaleza\, CE\, Brazil
CATEGORIES:Construção Civil
END:VEVENT
BEGIN:VEVENT
DTSTART;VALUE=DATE:20250820
DTEND;VALUE=DATE:20250823
DTSTAMP:20260422T082312
CREATED:20250110T193931Z
LAST-MODIFIED:20250115T201454Z
UID:75332-1755648000-1755907199@www.copastur.com.br
SUMMARY:VEX25 - Varejo Experience Brasil 25
DESCRIPTION:Aberto ao público mediante ingresso
URL:https://www.copastur.com.br/evento/vex25-varejo-experience-brasil-25/
LOCATION:Rafain Palace Hotel & Convention Center\, Foz do Iguaçu\, PR\, Brasil
CATEGORIES:Empreendedorismo
END:VEVENT
BEGIN:VEVENT
DTSTART;VALUE=DATE:20250821
DTEND;VALUE=DATE:20250824
DTSTAMP:20260422T082312
CREATED:20250110T193932Z
LAST-MODIFIED:20250115T201717Z
UID:75333-1755734400-1755993599@www.copastur.com.br
SUMMARY:Expo Móvel Pernambuco
DESCRIPTION:Especializado mediante convite
URL:https://www.copastur.com.br/evento/expo-movel-pernambuco-expo-movel-caruaru/
LOCATION:Polo Caruaru\, Caruaru\, PE\, Brasil
CATEGORIES:Madeira,Móveis e Decorações
END:VEVENT
BEGIN:VEVENT
DTSTART;VALUE=DATE:20250821
DTEND;VALUE=DATE:20250824
DTSTAMP:20260422T082312
CREATED:20250110T194127Z
LAST-MODIFIED:20250115T201856Z
UID:75334-1755734400-1755993599@www.copastur.com.br
SUMMARY:CONSTRUCON - Feira Brasileira da Indústria da Construção e Arquitetura
DESCRIPTION:Aberto ao público
URL:https://www.copastur.com.br/evento/construcon-feira-brasileira-da-industria-da-construcao-e-arquitetura/
LOCATION:Centro de Convenções de João Pessoa – Centro de Convenções Poeta Ronaldo Cunha Lima\, João Pessoa\, PB\, Brasil
CATEGORIES:Construção Civil
END:VEVENT
BEGIN:VEVENT
DTSTART;VALUE=DATE:20250821
DTEND;VALUE=DATE:20250824
DTSTAMP:20260422T082312
CREATED:20250110T194129Z
LAST-MODIFIED:20250115T202100Z
UID:75336-1755734400-1755993599@www.copastur.com.br
SUMMARY:CONGRESSO DA FORL - Congresso da Fundação Otorrinolaringologia
DESCRIPTION:Restrito a profissionais do setor
URL:https://www.copastur.com.br/evento/congresso-da-forl-congresso-da-fundacao-otorrinolaringologia/
LOCATION:Centro de Convenções Frei Caneca\, São Paulo\, SP\, Brazil
CATEGORIES:Saúde
END:VEVENT
BEGIN:VEVENT
DTSTART;VALUE=DATE:20250821
DTEND;VALUE=DATE:20250901
DTSTAMP:20260422T082312
CREATED:20250110T194128Z
LAST-MODIFIED:20250115T202047Z
UID:75335-1755734400-1756684799@www.copastur.com.br
SUMMARY:Festa do Peão de Barretos
DESCRIPTION:Aberto ao público mediante ingresso
URL:https://www.copastur.com.br/evento/festa-do-peao-de-barretos/
LOCATION:Parque do Peão\, Barretos\, SP\, Brazil
CATEGORIES:Agropecuário,Comercial e Industrial
END:VEVENT
BEGIN:VEVENT
DTSTART;VALUE=DATE:20250822
DTEND;VALUE=DATE:20250824
DTSTAMP:20260422T082312
CREATED:20250110T194131Z
LAST-MODIFIED:20250115T202132Z
UID:75338-1755820800-1755993599@www.copastur.com.br
SUMMARY:Travel Next Minas
DESCRIPTION:Aberto ao público
URL:https://www.copastur.com.br/evento/travel-next-minas/
LOCATION:Expominas – Belo Horizonte\, Belo Horizonte\, MG\, Brazil
CATEGORIES:Turismo e Hotelaria
END:VEVENT
BEGIN:VEVENT
DTSTART;VALUE=DATE:20250822
DTEND;VALUE=DATE:20250901
DTSTAMP:20260422T082312
CREATED:20250110T194130Z
LAST-MODIFIED:20250123T120253Z
UID:75337-1755820800-1756684799@www.copastur.com.br
SUMMARY:Feira Brasil Mostra Brasil (Natal)
DESCRIPTION:Aberto ao público
URL:https://www.copastur.com.br/evento/feira-brasil-mostra-brasil-natal-bmb/
LOCATION:Centro de Convenções de Natal\, Natal\, RN\, Brazil
CATEGORIES:Feiras Multisetoriais
END:VEVENT
BEGIN:VEVENT
DTSTART;VALUE=DATE:20250825
DTEND;VALUE=DATE:20250827
DTSTAMP:20260422T082312
CREATED:20250110T194328Z
LAST-MODIFIED:20250115T202150Z
UID:75339-1756080000-1756252799@www.copastur.com.br
SUMMARY:CIAP - Congresso Internacional de Atenção aos Pés ( Congresso Podoactiva)
DESCRIPTION:Aberto ao público mediante ingresso
URL:https://www.copastur.com.br/evento/ciap-congresso-internacional-de-atencao-aos-pes-congresso-podoactiva/
LOCATION:Hotel Esuits Recreio Shopping\, Rio de Janeiro\, RJ\, Brasil
CATEGORIES:Saúde
END:VEVENT
BEGIN:VEVENT
DTSTART;VALUE=DATE:20250825
DTEND;VALUE=DATE:20250827
DTSTAMP:20260422T082312
CREATED:20250110T194330Z
LAST-MODIFIED:20250115T203628Z
UID:75341-1756080000-1756252799@www.copastur.com.br
SUMMARY:Fórum de Manufatura
DESCRIPTION:Aberto ao público mediante ingresso
URL:https://www.copastur.com.br/evento/forum-de-manufatura/
LOCATION:Novotel Center Norte\, São Paulo\, SP\, Brazil
CATEGORIES:Tecnologia Industrial
END:VEVENT
BEGIN:VEVENT
DTSTART;VALUE=DATE:20250825
DTEND;VALUE=DATE:20250829
DTSTAMP:20260422T082312
CREATED:20250110T194329Z
LAST-MODIFIED:20250115T202203Z
UID:75340-1756080000-1756425599@www.copastur.com.br
SUMMARY:Agile Trends GOV 2025
DESCRIPTION:Aberto ao público mediante ingresso
URL:https://www.copastur.com.br/evento/agile-trends-gov-2025/
LOCATION:Centro de Convenções Ulysses Guimarães\, Brasília\, DF\, Brazil
CATEGORIES:Tecnologia e Inovação
END:VEVENT
BEGIN:VEVENT
DTSTART;VALUE=DATE:20250826
DTEND;VALUE=DATE:20250827
DTSTAMP:20260422T082312
CREATED:20250110T194331Z
LAST-MODIFIED:20250115T203647Z
UID:75342-1756166400-1756252799@www.copastur.com.br
SUMMARY:WELDINGSHOW 2025 - Feira de Equipamentos e Acessórios para Solda e Corte
DESCRIPTION:Aberto ao público mediante convite
URL:https://www.copastur.com.br/evento/weldingshow-2025-feira-de-equipamentos-e-acessorios-para-solda-e-corte-welding-show-brasil/
LOCATION:Fatec SP\, São Paulo\, SP\, Brasil
CATEGORIES:Tecnologia Industrial
END:VEVENT
BEGIN:VEVENT
DTSTART;VALUE=DATE:20250826
DTEND;VALUE=DATE:20250828
DTSTAMP:20260422T082312
CREATED:20250110T194332Z
LAST-MODIFIED:20250115T203708Z
UID:75343-1756166400-1756339199@www.copastur.com.br
SUMMARY:Congresso AçoBrasil 2025 - Congresso Brasileiro do Aço
DESCRIPTION:Aberto ao público mediante convite
URL:https://www.copastur.com.br/evento/congresso-acobrasil-2025-congresso-brasileiro-do-aco-congresso-aco-brasil/
LOCATION:Aço Brasil\, São Paulo\, SP\, Brasil
CATEGORIES:Tecnologia Industrial
END:VEVENT
BEGIN:VEVENT
DTSTART;VALUE=DATE:20250826
DTEND;VALUE=DATE:20250828
DTSTAMP:20260422T082312
CREATED:20250110T194527Z
LAST-MODIFIED:20250115T203718Z
UID:75344-1756166400-1756339199@www.copastur.com.br
SUMMARY:EXPOAÇO
DESCRIPTION:Especializado mediante convite
URL:https://www.copastur.com.br/evento/expoaco/
LOCATION:São Paulo\, São Paulo\, SP\, Brazil
CATEGORIES:Tecnologia Industrial
END:VEVENT
BEGIN:VEVENT
DTSTART;VALUE=DATE:20250826
DTEND;VALUE=DATE:20250828
DTSTAMP:20260422T082312
CREATED:20250110T194931Z
LAST-MODIFIED:20250120T144351Z
UID:75356-1756166400-1756339199@www.copastur.com.br
SUMMARY:RABBITCRESCER - Congresso e Feira Educacional (Congresso Educacional Crescer)
DESCRIPTION:Aberto ao público mediante ingresso
URL:https://www.copastur.com.br/evento/rabbitcrescer-congresso-e-feira-educacional-congresso-educacional-crescer/
LOCATION:São Paulo\, São Paulo\, SP\, Brazil
CATEGORIES:Cultura e Educação
END:VEVENT
BEGIN:VEVENT
DTSTART;VALUE=DATE:20250826
DTEND;VALUE=DATE:20250829
DTSTAMP:20260422T082312
CREATED:20250110T194528Z
LAST-MODIFIED:20250115T203731Z
UID:75345-1756166400-1756425599@www.copastur.com.br
SUMMARY:FI - Food Ingredients South America (FiSA)
DESCRIPTION:Restrito a profissionais do setor
URL:https://www.copastur.com.br/evento/fi-food-ingredients-south-america-fisa/
LOCATION:São Paulo Expo Exhibition & Convention Center\, São Paulo\, SP\, Brazil
CATEGORIES:Alimentos e Bebidas
END:VEVENT
BEGIN:VEVENT
DTSTART;VALUE=DATE:20250826
DTEND;VALUE=DATE:20250829
DTSTAMP:20260422T082312
CREATED:20250110T194529Z
LAST-MODIFIED:20250120T143348Z
UID:75346-1756166400-1756425599@www.copastur.com.br
SUMMARY:Hi - Health Ingredients South America
DESCRIPTION:Restrito a profissionais do setor
URL:https://www.copastur.com.br/evento/hi-health-ingredients-south-america/
LOCATION:São Paulo Expo Exhibition & Convention Center\, São Paulo\, SP\, Brazil
CATEGORIES:Alimentos e Bebidas
END:VEVENT
BEGIN:VEVENT
DTSTART;VALUE=DATE:20250826
DTEND;VALUE=DATE:20250829
DTSTAMP:20260422T082312
CREATED:20250110T194530Z
LAST-MODIFIED:20250120T143400Z
UID:75347-1756166400-1756425599@www.copastur.com.br
SUMMARY:ip - innovapack South America
DESCRIPTION:Restrito a profissionais do setor
URL:https://www.copastur.com.br/evento/ip-innovapack-south-america/
LOCATION:São Paulo Expo Exhibition & Convention Center\, São Paulo\, SP\, Brazil
CATEGORIES:Alimentos e Bebidas
END:VEVENT
END:VCALENDAR