BEGIN:VCALENDAR
VERSION:2.0
PRODID:-//Copastur - ECPv6.15.20//NONSGML v1.0//EN
CALSCALE:GREGORIAN
METHOD:PUBLISH
X-ORIGINAL-URL:https://www.copastur.com.br
X-WR-CALDESC:Eventos para Copastur
REFRESH-INTERVAL;VALUE=DURATION:PT1H
X-Robots-Tag:noindex
X-PUBLISHED-TTL:PT1H
BEGIN:VTIMEZONE
TZID:America/Sao_Paulo
BEGIN:STANDARD
TZOFFSETFROM:-0300
TZOFFSETTO:-0300
TZNAME:-03
DTSTART:20240101T000000
END:STANDARD
END:VTIMEZONE
BEGIN:VEVENT
DTSTART;VALUE=DATE:20250821
DTEND;VALUE=DATE:20250901
DTSTAMP:20260422T081808
CREATED:20250110T194128Z
LAST-MODIFIED:20250115T202047Z
UID:75335-1755734400-1756684799@www.copastur.com.br
SUMMARY:Festa do Peão de Barretos
DESCRIPTION:Aberto ao público mediante ingresso
URL:https://www.copastur.com.br/evento/festa-do-peao-de-barretos/
LOCATION:Parque do Peão\, Barretos\, SP\, Brazil
CATEGORIES:Agropecuário,Comercial e Industrial
END:VEVENT
BEGIN:VEVENT
DTSTART;VALUE=DATE:20250822
DTEND;VALUE=DATE:20250901
DTSTAMP:20260422T081808
CREATED:20250110T194130Z
LAST-MODIFIED:20250123T120253Z
UID:75337-1755820800-1756684799@www.copastur.com.br
SUMMARY:Feira Brasil Mostra Brasil (Natal)
DESCRIPTION:Aberto ao público
URL:https://www.copastur.com.br/evento/feira-brasil-mostra-brasil-natal-bmb/
LOCATION:Centro de Convenções de Natal\, Natal\, RN\, Brazil
CATEGORIES:Feiras Multisetoriais
END:VEVENT
BEGIN:VEVENT
DTSTART;VALUE=DATE:20250825
DTEND;VALUE=DATE:20250827
DTSTAMP:20260422T081808
CREATED:20250110T194328Z
LAST-MODIFIED:20250115T202150Z
UID:75339-1756080000-1756252799@www.copastur.com.br
SUMMARY:CIAP - Congresso Internacional de Atenção aos Pés ( Congresso Podoactiva)
DESCRIPTION:Aberto ao público mediante ingresso
URL:https://www.copastur.com.br/evento/ciap-congresso-internacional-de-atencao-aos-pes-congresso-podoactiva/
LOCATION:Hotel Esuits Recreio Shopping\, Rio de Janeiro\, RJ\, Brasil
CATEGORIES:Saúde
END:VEVENT
BEGIN:VEVENT
DTSTART;VALUE=DATE:20250825
DTEND;VALUE=DATE:20250827
DTSTAMP:20260422T081808
CREATED:20250110T194330Z
LAST-MODIFIED:20250115T203628Z
UID:75341-1756080000-1756252799@www.copastur.com.br
SUMMARY:Fórum de Manufatura
DESCRIPTION:Aberto ao público mediante ingresso
URL:https://www.copastur.com.br/evento/forum-de-manufatura/
LOCATION:Novotel Center Norte\, São Paulo\, SP\, Brazil
CATEGORIES:Tecnologia Industrial
END:VEVENT
BEGIN:VEVENT
DTSTART;VALUE=DATE:20250825
DTEND;VALUE=DATE:20250829
DTSTAMP:20260422T081808
CREATED:20250110T194329Z
LAST-MODIFIED:20250115T202203Z
UID:75340-1756080000-1756425599@www.copastur.com.br
SUMMARY:Agile Trends GOV 2025
DESCRIPTION:Aberto ao público mediante ingresso
URL:https://www.copastur.com.br/evento/agile-trends-gov-2025/
LOCATION:Centro de Convenções Ulysses Guimarães\, Brasília\, DF\, Brazil
CATEGORIES:Tecnologia e Inovação
END:VEVENT
BEGIN:VEVENT
DTSTART;VALUE=DATE:20250826
DTEND;VALUE=DATE:20250827
DTSTAMP:20260422T081808
CREATED:20250110T194331Z
LAST-MODIFIED:20250115T203647Z
UID:75342-1756166400-1756252799@www.copastur.com.br
SUMMARY:WELDINGSHOW 2025 - Feira de Equipamentos e Acessórios para Solda e Corte
DESCRIPTION:Aberto ao público mediante convite
URL:https://www.copastur.com.br/evento/weldingshow-2025-feira-de-equipamentos-e-acessorios-para-solda-e-corte-welding-show-brasil/
LOCATION:Fatec SP\, São Paulo\, SP\, Brasil
CATEGORIES:Tecnologia Industrial
END:VEVENT
BEGIN:VEVENT
DTSTART;VALUE=DATE:20250826
DTEND;VALUE=DATE:20250828
DTSTAMP:20260422T081808
CREATED:20250110T194332Z
LAST-MODIFIED:20250115T203708Z
UID:75343-1756166400-1756339199@www.copastur.com.br
SUMMARY:Congresso AçoBrasil 2025 - Congresso Brasileiro do Aço
DESCRIPTION:Aberto ao público mediante convite
URL:https://www.copastur.com.br/evento/congresso-acobrasil-2025-congresso-brasileiro-do-aco-congresso-aco-brasil/
LOCATION:Aço Brasil\, São Paulo\, SP\, Brasil
CATEGORIES:Tecnologia Industrial
END:VEVENT
BEGIN:VEVENT
DTSTART;VALUE=DATE:20250826
DTEND;VALUE=DATE:20250828
DTSTAMP:20260422T081808
CREATED:20250110T194527Z
LAST-MODIFIED:20250115T203718Z
UID:75344-1756166400-1756339199@www.copastur.com.br
SUMMARY:EXPOAÇO
DESCRIPTION:Especializado mediante convite
URL:https://www.copastur.com.br/evento/expoaco/
LOCATION:São Paulo\, São Paulo\, SP\, Brazil
CATEGORIES:Tecnologia Industrial
END:VEVENT
BEGIN:VEVENT
DTSTART;VALUE=DATE:20250826
DTEND;VALUE=DATE:20250828
DTSTAMP:20260422T081808
CREATED:20250110T194931Z
LAST-MODIFIED:20250120T144351Z
UID:75356-1756166400-1756339199@www.copastur.com.br
SUMMARY:RABBITCRESCER - Congresso e Feira Educacional (Congresso Educacional Crescer)
DESCRIPTION:Aberto ao público mediante ingresso
URL:https://www.copastur.com.br/evento/rabbitcrescer-congresso-e-feira-educacional-congresso-educacional-crescer/
LOCATION:São Paulo\, São Paulo\, SP\, Brazil
CATEGORIES:Cultura e Educação
END:VEVENT
BEGIN:VEVENT
DTSTART;VALUE=DATE:20250826
DTEND;VALUE=DATE:20250829
DTSTAMP:20260422T081808
CREATED:20250110T194528Z
LAST-MODIFIED:20250115T203731Z
UID:75345-1756166400-1756425599@www.copastur.com.br
SUMMARY:FI - Food Ingredients South America (FiSA)
DESCRIPTION:Restrito a profissionais do setor
URL:https://www.copastur.com.br/evento/fi-food-ingredients-south-america-fisa/
LOCATION:São Paulo Expo Exhibition & Convention Center\, São Paulo\, SP\, Brazil
CATEGORIES:Alimentos e Bebidas
END:VEVENT
BEGIN:VEVENT
DTSTART;VALUE=DATE:20250826
DTEND;VALUE=DATE:20250829
DTSTAMP:20260422T081808
CREATED:20250110T194529Z
LAST-MODIFIED:20250120T143348Z
UID:75346-1756166400-1756425599@www.copastur.com.br
SUMMARY:Hi - Health Ingredients South America
DESCRIPTION:Restrito a profissionais do setor
URL:https://www.copastur.com.br/evento/hi-health-ingredients-south-america/
LOCATION:São Paulo Expo Exhibition & Convention Center\, São Paulo\, SP\, Brazil
CATEGORIES:Alimentos e Bebidas
END:VEVENT
BEGIN:VEVENT
DTSTART;VALUE=DATE:20250826
DTEND;VALUE=DATE:20250829
DTSTAMP:20260422T081808
CREATED:20250110T194530Z
LAST-MODIFIED:20250120T143400Z
UID:75347-1756166400-1756425599@www.copastur.com.br
SUMMARY:ip - innovapack South America
DESCRIPTION:Restrito a profissionais do setor
URL:https://www.copastur.com.br/evento/ip-innovapack-south-america/
LOCATION:São Paulo Expo Exhibition & Convention Center\, São Paulo\, SP\, Brazil
CATEGORIES:Alimentos e Bebidas
END:VEVENT
BEGIN:VEVENT
DTSTART;VALUE=DATE:20250826
DTEND;VALUE=DATE:20250829
DTSTAMP:20260422T081808
CREATED:20250110T194531Z
LAST-MODIFIED:20250120T143418Z
UID:75348-1756166400-1756425599@www.copastur.com.br
SUMMARY:NI - Natural Ingredients
DESCRIPTION:Restrito a profissionais do setor
URL:https://www.copastur.com.br/evento/ni-natural-ingredients/
LOCATION:São Paulo Expo Exhibition & Convention Center\, São Paulo\, SP\, Brazil
CATEGORIES:Alimentos e Bebidas
END:VEVENT
BEGIN:VEVENT
DTSTART;VALUE=DATE:20250826
DTEND;VALUE=DATE:20250829
DTSTAMP:20260422T081808
CREATED:20250110T194728Z
LAST-MODIFIED:20250120T143844Z
UID:75349-1756166400-1756425599@www.copastur.com.br
SUMMARY:FilmeCon 2025 (Filme Con)
DESCRIPTION:Aberto ao público
URL:https://www.copastur.com.br/evento/filmecon-2025-filme-con/
LOCATION:Teatro Gamaro\, São Paulo\, SP\, Brasil
CATEGORIES:Audiovisual
END:VEVENT
BEGIN:VEVENT
DTSTART;VALUE=DATE:20250826
DTEND;VALUE=DATE:20250829
DTSTAMP:20260422T081808
CREATED:20250110T194729Z
LAST-MODIFIED:20250120T144220Z
UID:75350-1756166400-1756425599@www.copastur.com.br
SUMMARY:EES - electrical energy storage
DESCRIPTION:Restrito a profissionais do setor
URL:https://www.copastur.com.br/evento/ees-electrical-energy-storage/
LOCATION:Expo Center Norte\, São Paulo\, SP\, Brazil
CATEGORIES:Energia
END:VEVENT
BEGIN:VEVENT
DTSTART;VALUE=DATE:20250826
DTEND;VALUE=DATE:20250829
DTSTAMP:20260422T081808
CREATED:20250110T194731Z
LAST-MODIFIED:20250120T144236Z
UID:75351-1756166400-1756425599@www.copastur.com.br
SUMMARY:ELETROTEC - Feira de Infraestrutura Elétrica
DESCRIPTION:Restrito a profissionais do setor
URL:https://www.copastur.com.br/evento/eletrotec-feira-de-infraestrutura-eletrica/
LOCATION:Expo Center Norte\, São Paulo\, SP\, Brazil
CATEGORIES:Tecnologia Industrial
END:VEVENT
BEGIN:VEVENT
DTSTART;VALUE=DATE:20250826
DTEND;VALUE=DATE:20250829
DTSTAMP:20260422T081808
CREATED:20250110T194732Z
LAST-MODIFIED:20250120T144252Z
UID:75352-1756166400-1756425599@www.copastur.com.br
SUMMARY:EM-Power South America
DESCRIPTION:Restrito a profissionais do setor
URL:https://www.copastur.com.br/evento/em-power-south-america/
LOCATION:Expo Center Norte\, São Paulo\, SP\, Brazil
CATEGORIES:Energia
END:VEVENT
BEGIN:VEVENT
DTSTART;VALUE=DATE:20250826
DTEND;VALUE=DATE:20250829
DTSTAMP:20260422T081808
CREATED:20250110T194733Z
LAST-MODIFIED:20250120T144304Z
UID:75353-1756166400-1756425599@www.copastur.com.br
SUMMARY:Intersolar South America 2025
DESCRIPTION:Restrito a profissionais do setor
URL:https://www.copastur.com.br/evento/intersolar-south-america-2025/
LOCATION:Expo Center Norte\, São Paulo\, SP\, Brazil
CATEGORIES:Energia
END:VEVENT
BEGIN:VEVENT
DTSTART;VALUE=DATE:20250826
DTEND;VALUE=DATE:20250829
DTSTAMP:20260422T081808
CREATED:20250110T194929Z
LAST-MODIFIED:20250120T144316Z
UID:75354-1756166400-1756425599@www.copastur.com.br
SUMMARY:THE SMARTER E SOUTH AMERICA
DESCRIPTION:Aberto ao público
URL:https://www.copastur.com.br/evento/the-smarter-e-south-america/
LOCATION:Expo Center Norte\, São Paulo\, SP\, Brazil
CATEGORIES:Energia
END:VEVENT
BEGIN:VEVENT
DTSTART;VALUE=DATE:20250826
DTEND;VALUE=DATE:20250829
DTSTAMP:20260422T081808
CREATED:20250110T194933Z
LAST-MODIFIED:20250120T144402Z
UID:75357-1756166400-1756425599@www.copastur.com.br
SUMMARY:Yes Móvel Show Santa Catarina
DESCRIPTION:Aberto ao público
URL:https://www.copastur.com.br/evento/yes-movel-show-santa-catarina/
LOCATION:Expocentro Balneário Camboriú\, Balneário Camboriú\, SC\, Brasil
CATEGORIES:Madeira,Móveis e Decorações
END:VEVENT
BEGIN:VEVENT
DTSTART;VALUE=DATE:20250826
DTEND;VALUE=DATE:20250829
DTSTAMP:20260422T081808
CREATED:20250110T194934Z
LAST-MODIFIED:20250120T144415Z
UID:75358-1756166400-1756425599@www.copastur.com.br
SUMMARY:EXPO PROTEÇÃO - Feira Internacional de Saúde e Segurança do Trabalho
DESCRIPTION:Aberto ao público
URL:https://www.copastur.com.br/evento/expo-protecao-feira-internacional-de-saude-e-seguranca-do-trabalho/
LOCATION:São Paulo Expo Exhibition & Convention Center\, São Paulo\, SP\, Brazil
CATEGORIES:Saúde e Segurança do Trabalho
END:VEVENT
BEGIN:VEVENT
DTSTART;VALUE=DATE:20250826
DTEND;VALUE=DATE:20250829
DTSTAMP:20260422T081808
CREATED:20250110T195130Z
LAST-MODIFIED:20250120T145054Z
UID:75359-1756166400-1756425599@www.copastur.com.br
SUMMARY:EXPO EMERGÊNCIA - Feira de Resgate\, Atendimento Pré-Hospitalar\, Combate a Incêndio e Emergências Químicas
DESCRIPTION:Aberto ao público
URL:https://www.copastur.com.br/evento/expo-emergencia-feira-de-resgate-atendimento-pre-hospitalar-combate-a-incendio-e-emergencias-quimicas/
LOCATION:São Paulo Expo Exhibition & Convention Center\, São Paulo\, SP\, Brazil
CATEGORIES:Saúde e Segurança do Trabalho
END:VEVENT
BEGIN:VEVENT
DTSTART;VALUE=DATE:20250826
DTEND;VALUE=DATE:20250830
DTSTAMP:20260422T081808
CREATED:20250110T194931Z
LAST-MODIFIED:20250120T144337Z
UID:75355-1756166400-1756511999@www.copastur.com.br
SUMMARY:CACHOEIRO STONE FAIR - Feira Internacional do Mármore e Granito
DESCRIPTION:Especializado mediante convite
URL:https://www.copastur.com.br/evento/cachoeiro-stone-fair-feira-internacional-do-marmore-e-granito/
LOCATION:Parque de Exposições Carlos Caiado Barbosa\, Cachoeiro de Itapemirim\, ES\, Brasil
CATEGORIES:Construção Civil
END:VEVENT
BEGIN:VEVENT
DTSTART;VALUE=DATE:20250827
DTEND;VALUE=DATE:20250829
DTSTAMP:20260422T081808
CREATED:20250110T195132Z
LAST-MODIFIED:20250120T145719Z
UID:75362-1756252800-1756425599@www.copastur.com.br
SUMMARY:Expo Licensing Brasil
DESCRIPTION:Aberto ao público
URL:https://www.copastur.com.br/evento/expo-licensing-brasil/
LOCATION:Vila dos Ipês\, São Paulo\, SP\, Brasil
CATEGORIES:Empreendedorismo
END:VEVENT
BEGIN:VEVENT
DTSTART;VALUE=DATE:20250827
DTEND;VALUE=DATE:20250829
DTSTAMP:20260422T081808
CREATED:20250110T195132Z
LAST-MODIFIED:20250120T145823Z
UID:75363-1756252800-1756425599@www.copastur.com.br
SUMMARY:LICENSINGCON Marcas e Personagens
DESCRIPTION:Restrito a profissionais do setor
URL:https://www.copastur.com.br/evento/licensingcon-marcas-e-personagens/
LOCATION:Vila dos Ipês\, São Paulo\, SP\, Brasil
CATEGORIES:Empreendedorismo
END:VEVENT
BEGIN:VEVENT
DTSTART;VALUE=DATE:20250827
DTEND;VALUE=DATE:20250829
DTSTAMP:20260422T081808
CREATED:20250110T200951Z
LAST-MODIFIED:20250123T133528Z
UID:75364-1756252800-1756425599@www.copastur.com.br
SUMMARY:CONIP JUDICIÁRIO E CONTROLE - Congresso de Inovação no Poder Judiciário & Controle
DESCRIPTION:Especializado mediante convite e ingresso
URL:https://www.copastur.com.br/evento/conip-judiciario-e-controle-congresso-de-inovacao-no-poder-judiciario-controle-conip-digital/
LOCATION:Hotel Royal Tulip Brasília Alvorada\, Brasília\, DF\, Brazil
CATEGORIES:Gestão
END:VEVENT
BEGIN:VEVENT
DTSTART;VALUE=DATE:20250827
DTEND;VALUE=DATE:20250830
DTSTAMP:20260422T081808
CREATED:20250110T195131Z
LAST-MODIFIED:20250120T145649Z
UID:75360-1756252800-1756511999@www.copastur.com.br
SUMMARY:Startup Summit 2025
DESCRIPTION:Aberto ao público mediante convite e ingresso
URL:https://www.copastur.com.br/evento/startup-summit-2025/
LOCATION:Centrosul – Centro de Convenções de Florianópolis\, Florianópolis\, SC\, Brazil
CATEGORIES:Tecnologia e Inovação
END:VEVENT
BEGIN:VEVENT
DTSTART;VALUE=DATE:20250827
DTEND;VALUE=DATE:20250830
DTSTAMP:20260422T081808
CREATED:20250110T195131Z
LAST-MODIFIED:20250120T145705Z
UID:75361-1756252800-1756511999@www.copastur.com.br
SUMMARY:Confut Sudamerica 2025
DESCRIPTION:Restrito a profissionais do setor
URL:https://www.copastur.com.br/evento/confut-sudamerica-2025/
LOCATION:São Paulo\, São Paulo\, SP\, Brazil
CATEGORIES:Lazer
END:VEVENT
BEGIN:VEVENT
DTSTART;VALUE=DATE:20250828
DTEND;VALUE=DATE:20250829
DTSTAMP:20260422T081808
CREATED:20250110T200954Z
LAST-MODIFIED:20250120T150151Z
UID:75367-1756339200-1756425599@www.copastur.com.br
SUMMARY:Simpósio SAE BRASIL de Máquinas Agrícolas - Seção Porto Alegre
DESCRIPTION:Aberto ao público mediante convite e ingresso
URL:https://www.copastur.com.br/evento/simposio-sae-brasil-de-maquinas-agricolas-secao-porto-alegre/
LOCATION:Porto Alegre\, Porto Alegre\, RS\, Brazil
CATEGORIES:Setores Automotivo e Nautico
END:VEVENT
BEGIN:VEVENT
DTSTART;VALUE=DATE:20250828
DTEND;VALUE=DATE:20250831
DTSTAMP:20260422T081808
CREATED:20250110T200952Z
LAST-MODIFIED:20250123T134949Z
UID:75365-1756339200-1756598399@www.copastur.com.br
SUMMARY:IEF 2025 - ILPI´s Expo + Fórum
DESCRIPTION:Especializado mediante convite e ingresso
URL:https://www.copastur.com.br/evento/ief-2025-ilpis-expo-forum-ilpis-expo-forum/
LOCATION:Centro de Convenções Frei Caneca\, São Paulo\, SP\, Brazil
CATEGORIES:Saúde
END:VEVENT
END:VCALENDAR