BEGIN:VCALENDAR
VERSION:2.0
PRODID:-//Copastur - ECPv6.15.20//NONSGML v1.0//EN
CALSCALE:GREGORIAN
METHOD:PUBLISH
X-ORIGINAL-URL:https://www.copastur.com.br
X-WR-CALDESC:Eventos para Copastur
REFRESH-INTERVAL;VALUE=DURATION:PT1H
X-Robots-Tag:noindex
X-PUBLISHED-TTL:PT1H
BEGIN:VTIMEZONE
TZID:America/Sao_Paulo
BEGIN:STANDARD
TZOFFSETFROM:-0300
TZOFFSETTO:-0300
TZNAME:-03
DTSTART:20240101T000000
END:STANDARD
END:VTIMEZONE
BEGIN:VEVENT
DTSTART;VALUE=DATE:20250905
DTEND;VALUE=DATE:20251006
DTSTAMP:20260422T082459
CREATED:20250109T125411Z
LAST-MODIFIED:20250109T185610Z
UID:74773-1757030400-1759708799@www.copastur.com.br
SUMMARY:ExpoSíndico (ExpoSíndiconline Brasil da CONASI) (Expo Síndico Online)
DESCRIPTION:Aberto ao público
URL:https://www.copastur.com.br/evento/exposindico-exposindiconline-brasil-da-conasi-expo-sindico-online/
LOCATION:Online\, São Paulo\, SP\, Brasil
CATEGORIES:Móveis e Decorações
END:VEVENT
BEGIN:VEVENT
DTSTART;VALUE=DATE:20250909
DTEND;VALUE=DATE:20250915
DTSTAMP:20260422T082459
CREATED:20250110T203920Z
LAST-MODIFIED:20250123T144306Z
UID:75401-1757376000-1757894399@www.copastur.com.br
SUMMARY:Fórum Cearense do Artesanato (Circuito Fenacce)
DESCRIPTION:Aberto ao público
URL:https://www.copastur.com.br/evento/forum-cearense-do-artesanato-circuito-fenacce/
LOCATION:Centro de Eventos do Ceará\, Fortaleza\, CE\, Brazil
CATEGORIES:Artes
END:VEVENT
BEGIN:VEVENT
DTSTART;VALUE=DATE:20250909
DTEND;VALUE=DATE:20250915
DTSTAMP:20260422T082459
CREATED:20250110T203921Z
LAST-MODIFIED:20250123T144334Z
UID:75402-1757376000-1757894399@www.copastur.com.br
SUMMARY:FENACCE - Feira Nacional do Artesanato & Cultura
DESCRIPTION:Aberto ao público mediante ingresso
URL:https://www.copastur.com.br/evento/fenacce-feira-nacional-do-artesanato-cultura/
LOCATION:Centro de Eventos do Ceará\, Fortaleza\, CE\, Brazil
CATEGORIES:Artes
END:VEVENT
BEGIN:VEVENT
DTSTART;VALUE=DATE:20250912
DTEND;VALUE=DATE:20250915
DTSTAMP:20260422T082459
CREATED:20250110T203939Z
LAST-MODIFIED:20250123T144435Z
UID:75405-1757635200-1757894399@www.copastur.com.br
SUMMARY:Sorocaba Tattoo Expo 2025
DESCRIPTION:Aberto ao público
URL:https://www.copastur.com.br/evento/sorocaba-tattoo-expo-2025/
LOCATION:Floresta Convenções e Eventos\, Sorocaba\, SP\, Brasil
CATEGORIES:Estética
END:VEVENT
BEGIN:VEVENT
DTSTART;VALUE=DATE:20250912
DTEND;VALUE=DATE:20250915
DTSTAMP:20260422T082459
CREATED:20250110T203940Z
LAST-MODIFIED:20250123T144504Z
UID:75406-1757635200-1757894399@www.copastur.com.br
SUMMARY:Expo Varejo Costa Doce
DESCRIPTION:Aberto ao público
URL:https://www.copastur.com.br/evento/expo-varejo-costa-doce/
LOCATION:Complexo Poliesportivo Rui de Castro Neto – Prainha\, Camaquã\, RS\, Brasil
CATEGORIES:Atacadista e Varejista
END:VEVENT
BEGIN:VEVENT
DTSTART;VALUE=DATE:20250912
DTEND;VALUE=DATE:20250915
DTSTAMP:20260422T082459
CREATED:20250110T203940Z
LAST-MODIFIED:20250123T144651Z
UID:75407-1757635200-1757894399@www.copastur.com.br
SUMMARY:ELO CONFERENCE 2025 (Elo Conference Foz do Iguaçu)
DESCRIPTION:Aberto ao público mediante ingresso
URL:https://www.copastur.com.br/evento/elo-conference-2025-elo-conference-foz-do-iguacu-elo-foz-do-iguacu/
LOCATION:Foz do Iguaçu\, Foz do Iguaçu\, PR\, Brasil
CATEGORIES:Outros Segmentos
END:VEVENT
BEGIN:VEVENT
DTSTART;VALUE=DATE:20250916
DTEND;VALUE=DATE:20250919
DTSTAMP:20260422T082459
CREATED:20250110T204139Z
LAST-MODIFIED:20250120T150814Z
UID:75409-1757980800-1758239999@www.copastur.com.br
SUMMARY:ACAPS TRADE SHOW - Convenção e Feira de Negócios do Varejo Capixaba
DESCRIPTION:Aberto ao público mediante ingresso
URL:https://www.copastur.com.br/evento/acaps-trade-show-convencao-e-feira-de-negocios-do-varejo-capixaba/
LOCATION:Carapina Centro de Eventos\, Serra\, ES\, Brazil
CATEGORIES:Atacadista e Varejista
END:VEVENT
BEGIN:VEVENT
DTSTART;VALUE=DATE:20250916
DTEND;VALUE=DATE:20250919
DTSTAMP:20260422T082459
CREATED:20250110T204140Z
LAST-MODIFIED:20250120T150824Z
UID:75410-1757980800-1758239999@www.copastur.com.br
SUMMARY:Convenção Capixaba de Supermercados
DESCRIPTION:Aberto ao público mediante ingresso
URL:https://www.copastur.com.br/evento/convencao-capixaba-de-supermercados/
LOCATION:Carapina Centro de Eventos\, Serra\, ES\, Brazil
CATEGORIES:Atacadista e Varejista
END:VEVENT
BEGIN:VEVENT
DTSTART;VALUE=DATE:20250916
DTEND;VALUE=DATE:20250919
DTSTAMP:20260422T082459
CREATED:20250110T204141Z
LAST-MODIFIED:20250123T144954Z
UID:75411-1757980800-1758239999@www.copastur.com.br
SUMMARY:China Homelife Brazil
DESCRIPTION:Especializado mediante convite
URL:https://www.copastur.com.br/evento/china-homelife-brazil/
LOCATION:São Paulo Expo\, São Paulo\, SP\, Brasil
CATEGORIES:Feiras Multisetoriais
END:VEVENT
BEGIN:VEVENT
DTSTART;VALUE=DATE:20250916
DTEND;VALUE=DATE:20250919
DTSTAMP:20260422T082459
CREATED:20250110T204142Z
LAST-MODIFIED:20250120T150848Z
UID:75412-1757980800-1758239999@www.copastur.com.br
SUMMARY:China Machinex Brasil
DESCRIPTION:Restrito a profissionais do setor
URL:https://www.copastur.com.br/evento/china-machinex-brasil/
LOCATION:São Paulo Expo Exhibition & Convention Center\, São Paulo\, SP\, Brazil
CATEGORIES:Tecnologia Industrial
END:VEVENT
BEGIN:VEVENT
DTSTART;VALUE=DATE:20250916
DTEND;VALUE=DATE:20250919
DTSTAMP:20260422T082459
CREATED:20250110T204143Z
LAST-MODIFIED:20250123T145039Z
UID:75413-1757980800-1758239999@www.copastur.com.br
SUMMARY:EXPOMATCON - Feira de Materiais de Construção do Paraná
DESCRIPTION:Aberto ao público
URL:https://www.copastur.com.br/evento/expomatcon-feira-de-materiais-de-construcao-do-parana-expo-matcon/
LOCATION:ExpoTrade Convention Center\, Pinhais\, PR\, Brazil
CATEGORIES:Construção Civil
END:VEVENT
BEGIN:VEVENT
DTSTART;VALUE=DATE:20250916
DTEND;VALUE=DATE:20250920
DTSTAMP:20260422T082459
CREATED:20250110T203941Z
LAST-MODIFIED:20250123T144726Z
UID:75408-1757980800-1758326399@www.copastur.com.br
SUMMARY:Feira Construir Aí 2025
DESCRIPTION:Aberto ao público mediante convite
URL:https://www.copastur.com.br/evento/feira-construir-ai-2025-feira-construir-ai/
LOCATION:Expocentro Balneário Camboriú\, Balneário Camboriú\, SC\, Brasil
CATEGORIES:Móveis e Decorações
END:VEVENT
BEGIN:VEVENT
DTSTART;VALUE=DATE:20250916
DTEND;VALUE=DATE:20250920
DTSTAMP:20260422T082459
CREATED:20250110T204339Z
LAST-MODIFIED:20250120T150916Z
UID:75414-1757980800-1758326399@www.copastur.com.br
SUMMARY:EQUIPOTEL
DESCRIPTION:Especializado mediante convite
URL:https://www.copastur.com.br/evento/equipotel/
LOCATION:Expo Center Norte\, São Paulo\, SP\, Brazil
CATEGORIES:Turismo e Hotelaria
END:VEVENT
BEGIN:VEVENT
DTSTART;VALUE=DATE:20250917
DTEND;VALUE=DATE:20250918
DTSTAMP:20260422T082459
CREATED:20250110T204539Z
LAST-MODIFIED:20250120T151020Z
UID:75419-1758067200-1758153599@www.copastur.com.br
SUMMARY:#ABX25 - Automotive Business Experience
DESCRIPTION:Aberto ao público mediante ingresso
URL:https://www.copastur.com.br/evento/abx25-automotive-business-experience/
LOCATION:São Paulo Expo Exhibition & Convention Center\, São Paulo\, SP\, Brazil
CATEGORIES:Setores Automotivo e Nautico
END:VEVENT
BEGIN:VEVENT
DTSTART;VALUE=DATE:20250917
DTEND;VALUE=DATE:20250919
DTSTAMP:20260422T082459
CREATED:20250110T204340Z
LAST-MODIFIED:20250123T183256Z
UID:75415-1758067200-1758239999@www.copastur.com.br
SUMMARY:EXPOINOVAÇÃO
DESCRIPTION:Aberto ao público mediante ingresso
URL:https://www.copastur.com.br/evento/expoinovacao-expo-inovacao/
LOCATION:Expocentro Edmundo Dobrawa\, Joinville\, SC\, Brasil
CATEGORIES:Tecnologia e Inovação
END:VEVENT
BEGIN:VEVENT
DTSTART;VALUE=DATE:20250917
DTEND;VALUE=DATE:20250919
DTSTAMP:20260422T082459
CREATED:20250110T204342Z
LAST-MODIFIED:20250120T151013Z
UID:75418-1758067200-1758239999@www.copastur.com.br
SUMMARY:MRO Brasil 2025 - Feira Internacional de Manutenção Aeronáutica
DESCRIPTION:Aberto ao público
URL:https://www.copastur.com.br/evento/mro-brasil-2025-feira-internacional-de-manutencao-aeronautica/
LOCATION:Centro de Convenções Frei Caneca\, São Paulo\, SP\, Brazil
CATEGORIES:Aeronáutica e Tecnologia para Aeroportos
END:VEVENT
BEGIN:VEVENT
DTSTART;VALUE=DATE:20250917
DTEND;VALUE=DATE:20250920
DTSTAMP:20260422T082459
CREATED:20250110T204341Z
LAST-MODIFIED:20250120T150945Z
UID:75416-1758067200-1758326399@www.copastur.com.br
SUMMARY:CONGREGARH - Congresso de Gestão de Pessoas ABRH-RS
DESCRIPTION:Aberto ao público mediante ingresso
URL:https://www.copastur.com.br/evento/congregarh-congresso-de-gestao-de-pessoas-abrh-rs/
LOCATION:Centro de Eventos PUCRS\, Porto Alegre\, RS\, Brazil
CATEGORIES:Gestão
END:VEVENT
BEGIN:VEVENT
DTSTART;VALUE=DATE:20250917
DTEND;VALUE=DATE:20250920
DTSTAMP:20260422T082459
CREATED:20250110T204341Z
LAST-MODIFIED:20250120T150957Z
UID:75417-1758067200-1758326399@www.copastur.com.br
SUMMARY:EXPOCONGREGARH
DESCRIPTION:Aberto ao público mediante ingresso
URL:https://www.copastur.com.br/evento/expocongregarh/
LOCATION:Centro de Eventos PUCRS\, Porto Alegre\, RS\, Brazil
CATEGORIES:Gestão
END:VEVENT
BEGIN:VEVENT
DTSTART;VALUE=DATE:20250918
DTEND;VALUE=DATE:20250921
DTSTAMP:20260422T082459
CREATED:20250110T204541Z
LAST-MODIFIED:20250120T151052Z
UID:75422-1758153600-1758412799@www.copastur.com.br
SUMMARY:Congresso VP 2025 - Congresso Internacional de Nutrição Funcional
DESCRIPTION:Aberto ao público mediante convite e ingresso
URL:https://www.copastur.com.br/evento/congresso-vp-2025-congresso-internacional-de-nutricao-funcional/
LOCATION:Centro de Convenções Frei Caneca\, São Paulo\, SP\, Brazil
CATEGORIES:Saúde
END:VEVENT
BEGIN:VEVENT
DTSTART;VALUE=DATE:20250918
DTEND;VALUE=DATE:20250921
DTSTAMP:20260422T082459
CREATED:20250110T204542Z
LAST-MODIFIED:20250120T151122Z
UID:75423-1758153600-1758412799@www.copastur.com.br
SUMMARY:Workshop: Tecnologias inéditas em sustentabilidade para o Foodservice
DESCRIPTION:Aberto ao público mediante convite e ingresso
URL:https://www.copastur.com.br/evento/workshop-tecnologias-ineditas-em-sustentabilidade-para-o-foodservice/
LOCATION:Centro de Convenções Frei Caneca\, São Paulo\, SP\, Brazil
CATEGORIES:Saúde
END:VEVENT
BEGIN:VEVENT
DTSTART;VALUE=DATE:20250918
DTEND;VALUE=DATE:20250922
DTSTAMP:20260422T082459
CREATED:20250110T204540Z
LAST-MODIFIED:20250120T151030Z
UID:75420-1758153600-1758499199@www.copastur.com.br
SUMMARY:Econ Nordeste
DESCRIPTION:Especializado mediante convite e ingresso
URL:https://www.copastur.com.br/evento/econ-nordeste/
LOCATION:Recife\, Recife\, PE\, Brazil
CATEGORIES:Construção Civil
END:VEVENT
BEGIN:VEVENT
DTSTART;VALUE=DATE:20250918
DTEND;VALUE=DATE:20250922
DTSTAMP:20260422T082459
CREATED:20250110T204541Z
LAST-MODIFIED:20250120T151041Z
UID:75421-1758153600-1758499199@www.copastur.com.br
SUMMARY:Conecta+ Música & Mercado
DESCRIPTION:Aberto ao público mediante convite e ingresso
URL:https://www.copastur.com.br/evento/conecta-musica-mercado/
LOCATION:Transamérica Expo Center\, São Paulo\, SP\, Brazil
CATEGORIES:Audiovisual
END:VEVENT
BEGIN:VEVENT
DTSTART;VALUE=DATE:20250918
DTEND;VALUE=DATE:20250922
DTSTAMP:20260422T082459
CREATED:20250110T204740Z
LAST-MODIFIED:20250123T183223Z
UID:75424-1758153600-1758499199@www.copastur.com.br
SUMMARY:Healthcare Conference
DESCRIPTION:Especializado mediante convite e ingresso
URL:https://www.copastur.com.br/evento/healthcare-conference-antigo-forum-healthcare-hospitality/
LOCATION:Hotel Royal Tulip JP Ribeirão Preto\, Ribeirão Preto\, SP\, Brasil
CATEGORIES:Saúde
END:VEVENT
BEGIN:VEVENT
DTSTART;VALUE=DATE:20250919
DTEND;VALUE=DATE:20250921
DTSTAMP:20260422T082459
CREATED:20250110T204743Z
LAST-MODIFIED:20250120T151628Z
UID:75426-1758240000-1758412799@www.copastur.com.br
SUMMARY:CONAPROC 2025 - Congresso Nacional de Profissionais de Consórcio
DESCRIPTION:Aberto ao público mediante ingresso
URL:https://www.copastur.com.br/evento/conaproc-2025-congresso-nacional-de-profissionais-de-consorcio/
LOCATION:São Paulo\, São Paulo\, SP\, Brazil
CATEGORIES:Gestão
END:VEVENT
BEGIN:VEVENT
DTSTART;VALUE=DATE:20250919
DTEND;VALUE=DATE:20250928
DTSTAMP:20260422T082459
CREATED:20250110T204741Z
LAST-MODIFIED:20250120T151621Z
UID:75425-1758240000-1759017599@www.copastur.com.br
SUMMARY:Jaguariúna Rodeo Festival 2025
DESCRIPTION:Aberto ao público
URL:https://www.copastur.com.br/evento/jaguariuna-rodeo-festival-2025/
LOCATION:Red Eventos\, Jaguariúna\, SP\, Brasil
CATEGORIES:Agropecuário,Comercial e Industrial
END:VEVENT
BEGIN:VEVENT
DTSTART;VALUE=DATE:20250922
DTEND;VALUE=DATE:20250925
DTSTAMP:20260422T082459
CREATED:20250110T204745Z
LAST-MODIFIED:20250120T153455Z
UID:75428-1758499200-1758758399@www.copastur.com.br
SUMMARY:SAVCARNE - Salão do Varejo da Carne
DESCRIPTION:Aberto ao público mediante convite e ingresso
URL:https://www.copastur.com.br/evento/savcarne-salao-do-varejo-da-carne/
LOCATION:Distrito Anhembi\, São Paulo\, SP\, Brazil
CATEGORIES:Alimentos e Bebidas
END:VEVENT
BEGIN:VEVENT
DTSTART;VALUE=DATE:20250922
DTEND;VALUE=DATE:20250927
DTSTAMP:20260422T082459
CREATED:20250110T204744Z
LAST-MODIFIED:20250120T151641Z
UID:75427-1758499200-1758931199@www.copastur.com.br
SUMMARY:CONBCON 2025 - Congresso Online Brasileiro de Contabilidade
DESCRIPTION:Aberto ao público mediante ingresso
URL:https://www.copastur.com.br/evento/conbcon-2025-congresso-online-brasileiro-de-contabilidade/
LOCATION:Online\, São Paulo\, SP\, Brasil
CATEGORIES:Gestão
END:VEVENT
BEGIN:VEVENT
DTSTART;VALUE=DATE:20250923
DTEND;VALUE=DATE:20250925
DTSTAMP:20260422T082459
CREATED:20250110T204940Z
LAST-MODIFIED:20250120T153513Z
UID:75429-1758585600-1758758399@www.copastur.com.br
SUMMARY:SEINCC - Semana da Indústria Calçadista Catarinense
DESCRIPTION:Especializado mediante convite
URL:https://www.copastur.com.br/evento/seincc-semana-da-industria-calcadista-catarinense/
LOCATION:Centro Empresarial e Cultural de São João Batista\, São João Batista\, SC\, Brasil
CATEGORIES:Couro
END:VEVENT
BEGIN:VEVENT
DTSTART;VALUE=DATE:20250923
DTEND;VALUE=DATE:20250925
DTSTAMP:20260422T082459
CREATED:20250110T204942Z
LAST-MODIFIED:20250120T153536Z
UID:75431-1758585600-1758758399@www.copastur.com.br
SUMMARY:Congresso de Gestão de Contratos
DESCRIPTION:Aberto ao público mediante ingresso
URL:https://www.copastur.com.br/evento/congresso-de-gestao-de-contratos/
LOCATION:Hotel Panamby\, São Paulo\, SP\, Brasil
CATEGORIES:Gestão
END:VEVENT
BEGIN:VEVENT
DTSTART;VALUE=DATE:20250923
DTEND;VALUE=DATE:20250925
DTSTAMP:20260422T082459
CREATED:20250110T204943Z
LAST-MODIFIED:20250120T153549Z
UID:75432-1758585600-1758758399@www.copastur.com.br
SUMMARY:in-cosmetics latin America
DESCRIPTION:Restrito a profissionais do setor
URL:https://www.copastur.com.br/evento/in-cosmetics-latin-america/
LOCATION:Expo Center Norte\, São Paulo\, SP\, Brazil
CATEGORIES:Estética
END:VEVENT
END:VCALENDAR