BEGIN:VCALENDAR
VERSION:2.0
PRODID:-//Copastur - ECPv6.15.20//NONSGML v1.0//EN
CALSCALE:GREGORIAN
METHOD:PUBLISH
X-ORIGINAL-URL:https://www.copastur.com.br
X-WR-CALDESC:Eventos para Copastur
REFRESH-INTERVAL;VALUE=DURATION:PT1H
X-Robots-Tag:noindex
X-PUBLISHED-TTL:PT1H
BEGIN:VTIMEZONE
TZID:America/Sao_Paulo
BEGIN:STANDARD
TZOFFSETFROM:-0300
TZOFFSETTO:-0300
TZNAME:-03
DTSTART:20240101T000000
END:STANDARD
END:VTIMEZONE
BEGIN:VEVENT
DTSTART;VALUE=DATE:20250905
DTEND;VALUE=DATE:20251006
DTSTAMP:20260422T064841
CREATED:20250109T125411Z
LAST-MODIFIED:20250109T185610Z
UID:74773-1757030400-1759708799@www.copastur.com.br
SUMMARY:ExpoSíndico (ExpoSíndiconline Brasil da CONASI) (Expo Síndico Online)
DESCRIPTION:Aberto ao público
URL:https://www.copastur.com.br/evento/exposindico-exposindiconline-brasil-da-conasi-expo-sindico-online/
LOCATION:Online\, São Paulo\, SP\, Brasil
CATEGORIES:Móveis e Decorações
END:VEVENT
BEGIN:VEVENT
DTSTART;VALUE=DATE:20250930
DTEND;VALUE=DATE:20251003
DTSTAMP:20260422T064841
CREATED:20250110T205542Z
LAST-MODIFIED:20250113T152134Z
UID:75445-1759190400-1759449599@www.copastur.com.br
SUMMARY:Prowine Forum
DESCRIPTION:Aberto ao público mediante convite
URL:https://www.copastur.com.br/evento/prowine-forum/
LOCATION:Expo Center Norte\, São Paulo\, SP\, Brazil
CATEGORIES:Alimentos e Bebidas
END:VEVENT
BEGIN:VEVENT
DTSTART;VALUE=DATE:20251001
DTEND;VALUE=DATE:20251003
DTSTAMP:20260422T064841
CREATED:20250110T205543Z
LAST-MODIFIED:20250113T175202Z
UID:75446-1759276800-1759449599@www.copastur.com.br
SUMMARY:HIS - Healthcare Innovation Show
DESCRIPTION:Restrito a profissionais do setor
URL:https://www.copastur.com.br/evento/his-healthcare-innovation-show/
LOCATION:São Paulo Expo Exhibition & Convention Center\, São Paulo\, SP\, Brazil
CATEGORIES:Saúde
END:VEVENT
BEGIN:VEVENT
DTSTART;VALUE=DATE:20251001
DTEND;VALUE=DATE:20251005
DTSTAMP:20260422T064841
CREATED:20250110T205544Z
LAST-MODIFIED:20250113T175305Z
UID:75447-1759276800-1759622399@www.copastur.com.br
SUMMARY:RIOPARTS - Feria da Indústria de Autopeças e Reparação Automotiva
DESCRIPTION:Aberto ao público
URL:https://www.copastur.com.br/evento/rioparts-feria-da-industria-de-autopecas-e-reparacao-automotiva/
LOCATION:Expo MAG (Antigo Centro de Convenções SulAmérica)\, Rio de Janeiro\, RJ\, Brazil
CATEGORIES:Setores Automotivo e Nautico
END:VEVENT
BEGIN:VEVENT
DTSTART;VALUE=DATE:20251003
DTEND;VALUE=DATE:20251005
DTSTAMP:20260422T064841
CREATED:20250110T205545Z
LAST-MODIFIED:20250123T191235Z
UID:75448-1759449600-1759622399@www.copastur.com.br
SUMMARY:Festival RME - Festival Rede Mulher Empreendedora
DESCRIPTION:Aberto ao público mediante ingresso
URL:https://www.copastur.com.br/evento/festival-rme-festival-rede-mulher-empreendedora/
LOCATION:São Paulo Expo Exhibition & Convention Center\, São Paulo\, SP\, Brazil
CATEGORIES:Empreendedorismo
END:VEVENT
BEGIN:VEVENT
DTSTART;VALUE=DATE:20251003
DTEND;VALUE=DATE:20251006
DTSTAMP:20260422T064841
CREATED:20250110T205742Z
LAST-MODIFIED:20250123T193844Z
UID:75449-1759449600-1759708799@www.copastur.com.br
SUMMARY:CONEDU - Congresso Nacional de Educação
DESCRIPTION:Aberto ao público mediante convite
URL:https://www.copastur.com.br/evento/conedu-congresso-nacional-de-educacao/
LOCATION:Centro de Convenções de Pernambuco\, Olinda\, PE\, Brazil
CATEGORIES:Cultura e Educação
END:VEVENT
BEGIN:VEVENT
DTSTART;VALUE=DATE:20251004
DTEND;VALUE=DATE:20251005
DTSTAMP:20260422T064841
CREATED:20250110T205743Z
LAST-MODIFIED:20250123T194005Z
UID:75450-1759536000-1759622399@www.copastur.com.br
SUMMARY:Reload 2025 (Patos de Minas)
DESCRIPTION:Aberto ao público mediante convite
URL:https://www.copastur.com.br/evento/reload-2025-patos-de-minas/
LOCATION:Patos de Minas\, Patos de Minas\, MG\, Brasil
CATEGORIES:Empreendedorismo
END:VEVENT
BEGIN:VEVENT
DTSTART;VALUE=DATE:20251005
DTEND;VALUE=DATE:20251009
DTSTAMP:20260422T064841
CREATED:20250110T205743Z
LAST-MODIFIED:20250123T194044Z
UID:75451-1759622400-1759967999@www.copastur.com.br
SUMMARY:CBRA 2025 - Congresso Brasileiro de Reprodução Assistida
DESCRIPTION:Aberto ao público mediante ingresso
URL:https://www.copastur.com.br/evento/cbra-2025-congresso-brasileiro-de-reproducao-assistida/
LOCATION:WTC – World Trade Center São Paulo\, São Paulo\, SP\, Brazil
CATEGORIES:Saúde
END:VEVENT
BEGIN:VEVENT
DTSTART;VALUE=DATE:20251007
DTEND;VALUE=DATE:20251009
DTSTAMP:20260422T064841
CREATED:20250110T205744Z
LAST-MODIFIED:20250123T194207Z
UID:75452-1759795200-1759967999@www.copastur.com.br
SUMMARY:CONGRESSO SAE BRASIL - Congresso e Mostra Internacionais de Tecnologia da Mobilidade SAE Brasil
DESCRIPTION:Aberto ao público mediante convite e ingresso
URL:https://www.copastur.com.br/evento/congresso-sae-brasil-congresso-e-mostra-internacionais-de-tecnologia-da-mobilidade-sae-brasil/
LOCATION:São Paulo\, São Paulo\, SP\, Brazil
CATEGORIES:Setores Automotivo e Nautico
END:VEVENT
BEGIN:VEVENT
DTSTART;VALUE=DATE:20251009
DTEND;VALUE=DATE:20251013
DTSTAMP:20260422T064841
CREATED:20250124T130648Z
LAST-MODIFIED:20250124T165519Z
UID:76711-1759968000-1760313599@www.copastur.com.br
SUMMARY:BGS - Brasil Game SHOW
DESCRIPTION:Aberto mediante ingresso
URL:https://www.copastur.com.br/evento/bgs-brasil-game-show/
LOCATION:Distrito Anhembi\, São Paulo\, SP\, Brazil
CATEGORIES:Audiovisuais,Cultura e Educação,Feiras e Eventos,Tecnologia,Tecnologia e Inovação
END:VEVENT
BEGIN:VEVENT
DTSTART;VALUE=DATE:20251015
DTEND;VALUE=DATE:20251018
DTSTAMP:20260422T064841
CREATED:20250110T205943Z
LAST-MODIFIED:20250120T151753Z
UID:75454-1760486400-1760745599@www.copastur.com.br
SUMMARY:CONSTRUNORDESTE - Expo Construção do Nordeste(Constru Nordeste)
DESCRIPTION:Aberto ao público mediante convite
URL:https://www.copastur.com.br/evento/construnordeste-expo-construcao-do-nordesteconstru-nordeste/
LOCATION:Centro de Convenções de Salvador\, Salvador\, BA\, Brazil
CATEGORIES:Construção Civil
END:VEVENT
BEGIN:VEVENT
DTSTART;VALUE=DATE:20251015
DTEND;VALUE=DATE:20251019
DTSTAMP:20260422T064841
CREATED:20250110T205745Z
LAST-MODIFIED:20250120T151741Z
UID:75453-1760486400-1760831999@www.copastur.com.br
SUMMARY:CONGRESSO SONAFE 2025 - Congresso Brasileiro de Fisioterapia Esportiva da Sonafe
DESCRIPTION:Especializado mediante convite e ingresso
URL:https://www.copastur.com.br/evento/congresso-sonafe-2025-congresso-brasileiro-de-fisioterapia-esportiva-da-sonafe/
LOCATION:Hotel Royal Tulip Brasília Alvorada\, Brasília\, DF\, Brazil
CATEGORIES:Saúde
END:VEVENT
BEGIN:VEVENT
DTSTART;VALUE=DATE:20251016
DTEND;VALUE=DATE:20251019
DTSTAMP:20260422T064841
CREATED:20250110T205944Z
LAST-MODIFIED:20250120T151813Z
UID:75455-1760572800-1760831999@www.copastur.com.br
SUMMARY:CONGRESSO DO DIC - Congresso Brasileiro de Imagem Cardiovascular (DIC)
DESCRIPTION:Restrito a profissionais do setor
URL:https://www.copastur.com.br/evento/congresso-do-dic-congresso-brasileiro-de-imagem-cardiovascular-dic/
LOCATION:Belo Horizonte\, Belo Horizonte\, MG\, Brazil
CATEGORIES:Saúde
END:VEVENT
BEGIN:VEVENT
DTSTART;VALUE=DATE:20251016
DTEND;VALUE=DATE:20251019
DTSTAMP:20260422T064841
CREATED:20250110T205945Z
LAST-MODIFIED:20250120T151818Z
UID:75456-1760572800-1760831999@www.copastur.com.br
SUMMARY:EXPO PEÇAS - Feira de Negócios\, Tecnologia e Peças Automotivas (Expo Peças)
DESCRIPTION:Aberto ao público
URL:https://www.copastur.com.br/evento/expo-pecas-feira-de-negocios-tecnologia-e-pecas-automotivas-expo-pecas/
LOCATION:Centro de Convenções de Goiânia\, Goiânia\, GO\, Brazil
CATEGORIES:Setores Automotivo e Nautico
END:VEVENT
BEGIN:VEVENT
DTSTART;VALUE=DATE:20251017
DTEND;VALUE=DATE:20251018
DTSTAMP:20260422T064841
CREATED:20250110T205946Z
LAST-MODIFIED:20250120T151835Z
UID:75457-1760659200-1760745599@www.copastur.com.br
SUMMARY:Expo RH Indaiatuba 2025
DESCRIPTION:Aberto ao público mediante ingresso
URL:https://www.copastur.com.br/evento/expo-rh-indaiatuba-2025/
LOCATION:Indaiatuba\, Indaiatuba\, SP\, Brasil
CATEGORIES:Gestão
END:VEVENT
BEGIN:VEVENT
DTSTART;VALUE=DATE:20251018
DTEND;VALUE=DATE:20251020
DTSTAMP:20260422T064841
CREATED:20250110T205947Z
LAST-MODIFIED:20250120T151849Z
UID:75458-1760745600-1760918399@www.copastur.com.br
SUMMARY:Gestão de Estética Conference 2025
DESCRIPTION:Aberto ao público mediante ingresso
URL:https://www.copastur.com.br/evento/gestao-de-estetica-conference-2025/
LOCATION:São Paulo\, São Paulo\, SP\, Brazil
CATEGORIES:Estética
END:VEVENT
BEGIN:VEVENT
DTSTART;VALUE=DATE:20251021
DTEND;VALUE=DATE:20251025
DTSTAMP:20260422T064841
CREATED:20250110T210143Z
LAST-MODIFIED:20250120T151859Z
UID:75459-1761004800-1761350399@www.copastur.com.br
SUMMARY:TECNAL - Feira de Tecnologia Para Indústria de Alimentos e Bebidas
DESCRIPTION:Aberto ao público
URL:https://www.copastur.com.br/evento/tecnal-feira-de-tecnologia-para-industria-de-alimentos-e-bebidas/
LOCATION:ExpoTrade Convention Center\, Pinhais\, PR\, Brazil
CATEGORIES:Alimentos e Bebidas
END:VEVENT
BEGIN:VEVENT
DTSTART;VALUE=DATE:20251022
DTEND;VALUE=DATE:20251024
DTSTAMP:20260422T064841
CREATED:20250110T210144Z
LAST-MODIFIED:20250120T151914Z
UID:75460-1761091200-1761263999@www.copastur.com.br
SUMMARY:CONPARH - Congresso Paranaense de Recursos Humanos
DESCRIPTION:Aberto ao público mediante ingresso
URL:https://www.copastur.com.br/evento/conparh-congresso-paranaense-de-recursos-humanos/
LOCATION:Curitiba\, Curitiba\, PR\, Brasil
CATEGORIES:Gestão
END:VEVENT
BEGIN:VEVENT
DTSTART;VALUE=DATE:20251025
DTEND;VALUE=DATE:20251026
DTSTAMP:20260422T064841
CREATED:20250110T210146Z
LAST-MODIFIED:20250120T151935Z
UID:75462-1761350400-1761436799@www.copastur.com.br
SUMMARY:Ironman (Florianópolis) (Outubro)
DESCRIPTION:Aberto ao público mediante convite e ingresso
URL:https://www.copastur.com.br/evento/ironman-florianopolis-outubro/
LOCATION:Praia dos ingleses\, Florianópolis\, SC\, Brasil
CATEGORIES:Lazer
END:VEVENT
BEGIN:VEVENT
DTSTART;VALUE=DATE:20251025
DTEND;VALUE=DATE:20251027
DTSTAMP:20260422T064841
CREATED:20250110T210145Z
LAST-MODIFIED:20250120T151919Z
UID:75461-1761350400-1761523199@www.copastur.com.br
SUMMARY:Festival Turá (Porto Alegre)
DESCRIPTION:Aberto ao público mediante ingresso
URL:https://www.copastur.com.br/evento/festival-tura-porto-alegre/
LOCATION:Porto Alegre\, Porto Alegre\, RS\, Brazil
CATEGORIES:Audiovisual
END:VEVENT
BEGIN:VEVENT
DTSTART;VALUE=DATE:20251028
DTEND;VALUE=DATE:20251030
DTSTAMP:20260422T064841
CREATED:20250110T210343Z
LAST-MODIFIED:20250120T151958Z
UID:75464-1761609600-1761782399@www.copastur.com.br
SUMMARY:Intersolar Summit Brasil Sul
DESCRIPTION:Aberto ao público mediante ingresso
URL:https://www.copastur.com.br/evento/intersolar-summit-brasil-sul/
LOCATION:Centro de Eventos FIERGS\, Porto Alegre\, RS\, Brazil
CATEGORIES:Energia
END:VEVENT
BEGIN:VEVENT
DTSTART;VALUE=DATE:20251028
DTEND;VALUE=DATE:20251031
DTSTAMP:20260422T064841
CREATED:20250110T210147Z
LAST-MODIFIED:20250120T151947Z
UID:75463-1761609600-1761868799@www.copastur.com.br
SUMMARY:EXPOSIBRAM 2025 - Exposição Internacional e Congresso de Mineração da Amazônia
DESCRIPTION:Restrito a profissionais do setor
URL:https://www.copastur.com.br/evento/exposibram-2025-exposicao-internacional-e-congresso-de-mineracao-da-amazonia/
LOCATION:Centro de Convenções de Salvador\, Salvador\, BA\, Brazil
CATEGORIES:Tecnologia Industrial
END:VEVENT
BEGIN:VEVENT
DTSTART;VALUE=DATE:20251029
DTEND;VALUE=DATE:20251101
DTSTAMP:20260422T064841
CREATED:20250110T210345Z
LAST-MODIFIED:20250120T152013Z
UID:75465-1761696000-1761955199@www.copastur.com.br
SUMMARY:TUBOTECH - Feira Internacional de Tubos\, Válvulas\, Bombas\, Conexões e Componentes
DESCRIPTION:Restrito a profissionais do setor
URL:https://www.copastur.com.br/evento/tubotech-feira-internacional-de-tubos-valvulas-bombas-conexoes-e-componentes/
LOCATION:São Paulo Expo Exhibition & Convention Center\, São Paulo\, SP\, Brazil
CATEGORIES:Tecnologia Industrial
END:VEVENT
BEGIN:VEVENT
DTSTART;VALUE=DATE:20251029
DTEND;VALUE=DATE:20251101
DTSTAMP:20260422T064841
CREATED:20250110T210346Z
LAST-MODIFIED:20250120T152017Z
UID:75466-1761696000-1761955199@www.copastur.com.br
SUMMARY:WIRE SOUTH AMERICA - Feira Internacional de Fios e Cabos
DESCRIPTION:Aberto ao público mediante convite e ingresso
URL:https://www.copastur.com.br/evento/wire-south-america-feira-internacional-de-fios-e-cabos/
LOCATION:São Paulo Expo Exhibition & Convention Center\, São Paulo\, SP\, Brazil
CATEGORIES:Tecnologia
END:VEVENT
BEGIN:VEVENT
DTSTART;VALUE=DATE:20251030
DTEND;VALUE=DATE:20251031
DTSTAMP:20260422T064841
CREATED:20250110T210546Z
LAST-MODIFIED:20250120T152134Z
UID:75471-1761782400-1761868799@www.copastur.com.br
SUMMARY:SET Regionais - SET Nordeste (Fortaleza)
DESCRIPTION:Aberto ao público
URL:https://www.copastur.com.br/evento/set-regionais-set-nordeste-fortaleza/
LOCATION:Fortaleza\, Fortaleza\, CE\, Brazil
CATEGORIES:Audiovisual
END:VEVENT
BEGIN:VEVENT
DTSTART;VALUE=DATE:20251030
DTEND;VALUE=DATE:20251102
DTSTAMP:20260422T064841
CREATED:20250110T210346Z
LAST-MODIFIED:20250113T185724Z
UID:75467-1761782400-1762041599@www.copastur.com.br
SUMMARY:Obesity Week Brasil 2025
DESCRIPTION:Restrito a profissionais do setor
URL:https://www.copastur.com.br/evento/obesity-week-brasil-2025/
LOCATION:Centro de Convenções Frei Caneca\, São Paulo\, SP\, Brazil
CATEGORIES:Saúde
END:VEVENT
BEGIN:VEVENT
DTSTART;VALUE=DATE:20251030
DTEND;VALUE=DATE:20251102
DTSTAMP:20260422T064841
CREATED:20250110T210347Z
LAST-MODIFIED:20250113T185741Z
UID:75468-1761782400-1762041599@www.copastur.com.br
SUMMARY:Pan American Congress On Obesity Medicine
DESCRIPTION:Restrito a profissionais do setor
URL:https://www.copastur.com.br/evento/pan-american-congress-on-obesity-medicine/
LOCATION:Centro de Convenções Frei Caneca\, São Paulo\, SP\, Brazil
CATEGORIES:Saúde
END:VEVENT
BEGIN:VEVENT
DTSTART;VALUE=DATE:20251030
DTEND;VALUE=DATE:20251102
DTSTAMP:20260422T064841
CREATED:20250110T210543Z
LAST-MODIFIED:20250113T185759Z
UID:75469-1761782400-1762041599@www.copastur.com.br
SUMMARY:Congresso Brasileiro de Medicina da Obesidade
DESCRIPTION:Restrito a profissionais do setor
URL:https://www.copastur.com.br/evento/congresso-brasileiro-de-medicina-da-obesidade/
LOCATION:Centro de Convenções Frei Caneca\, São Paulo\, SP\, Brazil
CATEGORIES:Saúde
END:VEVENT
BEGIN:VEVENT
DTSTART;VALUE=DATE:20251030
DTEND;VALUE=DATE:20251102
DTSTAMP:20260422T064841
CREATED:20250110T210545Z
LAST-MODIFIED:20250113T185820Z
UID:75470-1761782400-1762041599@www.copastur.com.br
SUMMARY:HABITACON - Feira de Fornecedores para Habitação & Condomínios
DESCRIPTION:Aberto ao público
URL:https://www.copastur.com.br/evento/habitacon-feira-de-fornecedores-para-habitacao-condominios/
LOCATION:Centro de Eventos Positivo\, Curitiba\, PR\, Brazil
CATEGORIES:Móveis e Decorações
END:VEVENT
END:VCALENDAR